BEGIN:VCALENDAR
VERSION:2.0
PRODID:-//wp-events-plugin.com//7.2.3.1//EN
TZID:Europe/Rome
X-WR-TIMEZONE:Europe/Rome
BEGIN:VEVENT
UID:10521@lazioeventi.com
DTSTART:20251017T160000Z
DTEND:20251019T224500Z
DTSTAMP:20251010T070644Z
URL:https://lazioeventi.com/eventi/sagra-delle-castagne-delle-zeppole-spig
 nesi
SUMMARY:Sagra delle Castagne e delle Zeppole Spignesi - Spigno Saturnia - 1
 7 Ottobre 25 17:00
DESCRIPTION:Da venerdì 17 ottobre a domenica 18 ottobre a Spigno Saturnia 
 (Superiore) (LT) in Piazza S. Giovanni\, nel centro storico del Paese\, l
 ’Associazione Culturale e sportiva di Spigno organizza la Sagra delle Ca
 stagne e zeppole spignesi .\n\nLa manifestazione richiama un numero consid
 erevole di persone (circa 3000) che anno dopo anno vengono a Spigno per gu
 stare le castagne arrosto e il tipico dolce dei ns. nonni "la zeppola"\; d
 olce dagli ingredienti molto poveri (impasto di farina cotto nell'olio cos
 parso di zucchero)\, ma che racchiude in sé sapori antichi legati alle ns
 . origini contadine di cui l'associazione cerca\, come può\, di perpetuar
 ne la tradizione.\n\nL'Associazione di Spigno Superiore non ha scopo di lu
 cro e che i soci organizzano detta manifestazione senza alcun compenso al 
 solo scopo di far conoscere Spigno Vecchio e il suo centro storico che pur
 troppo è totalmente abbandonato a se stesso.
ATTACH;FMTTYPE=image/jpeg:https://lazioeventi.com/wp-content/uploads/2022/
 10/sagra-zeppole-spignesi.jpg
CATEGORIES:Sagre, Gastronomia e Tradizioni nel Lazio
LOCATION:Spigno Saturnia\, Comune\, Spigno Saturnia\, Latina\, Lazio\, Ital
 ia
GEO:41.3056;13.7341
X-APPLE-STRUCTURED-LOCATION;VALUE=URI;X-ADDRESS=Comune\, Spigno Saturnia\, 
 Latina\, Lazio\, Italia;X-APPLE-RADIUS=100;X-TITLE=Spigno Saturnia:geo:41.
 3056,13.7341
END:VEVENT
END:VCALENDAR