BEGIN:VCALENDAR
VERSION:2.0
PRODID:-//wp-events-plugin.com//7.2.3.1//EN
TZID:Europe/Rome
X-WR-TIMEZONE:Europe/Rome
BEGIN:VEVENT
UID:41632@lazioeventi.com
DTSTART;TZID=Europe/Rome:20250601T163000
DTEND;TZID=Europe/Rome:20250601T213000
DTSTAMP:20250521T202835Z
URL:https://lazioeventi.com/eventi/sagra-delle-cerase-al-marzolano
SUMMARY:Sagra delle Cerase al Marzolano - Palombara Sabina - 1 Giugno 25 16
 :30
DESCRIPTION:La Sagra delle Cerase è molto più di una semplice festa paesa
 na: è un’occasione per riscoprire i sapori genuini\, i legami con il te
 rritorio e la gioia dello stare insieme. L’evento è organizzato dal Com
 itato Marzolano Unito in collaborazione con numerose realtà locali\, a te
 stimonianza di una comunità viva e attiva.\n\nLa Sagra delle Cerase si sp
 osterà nella frazione di Marzolano\, in Via Borea. \n\nAlle ore 17:00\, i
 l Mago MAH intratterrà il pubblico con uno spettacolo di magia\, mentre a
 lle ore 19:00 la Scoppoletta Band allieterà la serata con musica dal vivo
 . Saranno inoltre presenti stand gastronomici per gustare le specialità l
 ocali. L’evento è organizzato dall’Associazione Culturale Festeggiame
 nti Marzolano.\n\nProgramma della giornata\nDalle 16:30 – Apertura della
  festa e accoglienza del pubblico.\nOre 17:00 – Spettacolo di magia con 
 Mago Mah\, dedicato ai più piccoli. Animazione\, giochi\, premi\, zuccher
 o filato e tanto divertimento per i bambini renderanno il pomeriggio ancor
 a più speciale.\nOre 19:00 – Scoppoletta Band in concerto. La band anim
 erà la serata con musica dal vivo e balli di gruppo\, trasformando il bor
 go in una grande pista da ballo sotto le stelle.\nE non solo…\nOltre agl
 i eventi principali\, la sagra offrirà:\n- Bancarelle di artigianato e pr
 odotti locali\n- Dolciumi e stand di cerase (ciliegie)\, vere protagoniste
  della festa\n- L’Angolo della Pesca\, dove si vince sempre\, ideale per
  bambini e famiglie\n- Un ricco Angolo Food\, con ampia scelta gastronomic
 a e comodi posti a sedere
ATTACH;FMTTYPE=image/jpeg:https://lazioeventi.com/wp-content/uploads/2025/
 05/sagra-cerase-marzolano.jpg
CATEGORIES:Musica, Spettacoli e Danza nel Lazio,Sagre, Gastronomia e
 Tradizioni nel Lazio
LOCATION:Palombara Sabina\, Comune\, Palombara Sabina\, Roma\, Lazio\, Ital
 ia
GEO:42.0665;12.7649
X-APPLE-STRUCTURED-LOCATION;VALUE=URI;X-ADDRESS=Comune\, Palombara Sabina\,
  Roma\, Lazio\, Italia;X-APPLE-RADIUS=100;X-TITLE=Palombara Sabina:geo:42.
 0665,12.7649
END:VEVENT
BEGIN:VTIMEZONE
TZID:Europe/Rome
X-LIC-LOCATION:Europe/Rome
BEGIN:DAYLIGHT
DTSTART:20250330T030000
TZOFFSETFROM:+0100
TZOFFSETTO:+0200
TZNAME:CEST
END:DAYLIGHT
END:VTIMEZONE
END:VCALENDAR