BEGIN:VCALENDAR
VERSION:2.0
PRODID:-//wp-events-plugin.com//7.2.3.1//EN
TZID:Europe/Rome
X-WR-TIMEZONE:Europe/Rome
BEGIN:VEVENT
UID:24822@lazioeventi.com
DTSTART:20230806T183000Z
DTEND:20230806T220000Z
DTSTAMP:20230606T142254Z
URL:https://lazioeventi.com/eventi/sagra-delle-fettuccine-con-funghi-porci
 ni-e-tartufo
SUMMARY:Sagra delle fettuccine con funghi porcini e tartufo - Arpino - 6 Ag
 osto 23 19:30
DESCRIPTION:In occasione della 52ª edizione del Gonfalone di Arpino per la
  Festa del Quartiere Arco appuntamento con la Sagra delle Fettuccine con F
 unghi Porcini e Tartufo ad Arpino (Fr) in località Madonna Addolorata dal
 le ore 19.30\n\nSi potranno degustare anche "Salsicce e Pecora alla brace"
 \, "Frittelle"\, "Spezzatino"\, "Panini con Prosciutto"\, "Dolci a volont
 à".\n\nVi aspettiamo a due passi dall'Acropoli di Civitavecchia di Arpino
 .\n\nNon Mancate !!!
ATTACH;FMTTYPE=image/jpeg:https://lazioeventi.com/wp-content/uploads/2019/
 07/sagra-fettuccine-arpino.jpg
CATEGORIES:Sagre, Gastronomia e Tradizioni nel Lazio
LOCATION:Arpino\, Comune di Arpino\, Arpino\, Frosinone\, Lazio\, Italia
GEO:41.648;13.6106
X-APPLE-STRUCTURED-LOCATION;VALUE=URI;X-ADDRESS=Comune di Arpino\, Arpino\,
  Frosinone\, Lazio\, Italia;X-APPLE-RADIUS=100;X-TITLE=Arpino:geo:41.648,1
 3.6106
END:VEVENT
END:VCALENDAR