BEGIN:VCALENDAR
VERSION:2.0
PRODID:-//wp-events-plugin.com//7.2.3.1//EN
TZID:Europe/Rome
X-WR-TIMEZONE:Europe/Rome
BEGIN:VEVENT
UID:36734@lazioeventi.com
DTSTART;TZID=Europe/Rome:20230826T190000
DTEND;TZID=Europe/Rome:20230826T190000
DTSTAMP:20230820T170603Z
URL:https://lazioeventi.com/eventi/sagra-delle-fettuccine-filacciano
SUMMARY:Sagra delle Fettuccine - Filacciano - 26 Agosto 23 19:00
DESCRIPTION:il 26 Agosto dalle ore 19:00\nappuntamento in Piazza Umberto I\
 nper gustare le favolose fettuccine La mia pasta dei f.lli Troiani prepara
 te dalle nostre adorabili cuoche!\ndurante la serata suonerà e canterà p
 er noiSartini!\nNon mancate!\nComune di Filacciano — con La mia pasta.
ATTACH;FMTTYPE=image/jpeg:https://lazioeventi.com/wp-content/uploads/2023/
 08/IMG-20230820-WA0060-.jpg
CATEGORIES:Sagre, Gastronomia e Tradizioni nel Lazio
LOCATION:Filacciano\, Comune\, Filacciano\, Roma\, Lazio\, Italia
GEO:42.2552;12.5984
X-APPLE-STRUCTURED-LOCATION;VALUE=URI;X-ADDRESS=Comune\, Filacciano\, Roma\
 , Lazio\, Italia;X-APPLE-RADIUS=100;X-TITLE=Filacciano:geo:42.2552,12.5984
END:VEVENT
BEGIN:VTIMEZONE
TZID:Europe/Rome
X-LIC-LOCATION:Europe/Rome
BEGIN:DAYLIGHT
DTSTART:20230326T030000
TZOFFSETFROM:+0100
TZOFFSETTO:+0200
TZNAME:CEST
END:DAYLIGHT
END:VTIMEZONE
END:VCALENDAR