BEGIN:VCALENDAR
VERSION:2.0
PRODID:-//wp-events-plugin.com//7.2.3.1//EN
TZID:Europe/Rome
X-WR-TIMEZONE:Europe/Rome
BEGIN:VEVENT
UID:35007@lazioeventi.com
DTSTART;TZID=Europe/Rome;VALUE=DATE:20250516
DTEND;TZID=Europe/Rome;VALUE=DATE:20250519
DTSTAMP:20250508T150752Z
URL:https://lazioeventi.com/eventi/sagra-delle-fragole-carchitti
SUMMARY:Sagra delle Fragole - Palestrina - 16 Maggio 25 00:00
DESCRIPTION:A Carchitti\, in provincia di Roma\, torna la Sagra delle frago
 le.\n\nIn programma diverse attività\, dalle sfilate dei carri alle esibi
 zioni di danza. Non mancherà anche la musica dal vivo e il cabaret.\nDegu
 stazione e vendita di fragole fresche e prodotti derivati (marmellate\, ge
 lati\, dolci\, liquori).\nStand gastronomici con piatti tipici locali.\nSp
 ettacoli musicali\, animazione e intrattenimento.\nEventi culturali e folk
 loristici legati alla tradizione agricola della zona.\n\nUna edizione spum
 eggiante\, piena di appuntamenti.\n\nLe fragole coltivate nell’area di P
 alestrina e dei Monti Prenestini sono particolarmente apprezzate per il lo
 ro sapore intenso\, grazie al terreno fertile e al clima favorevole della 
 zona.
ATTACH;FMTTYPE=image/jpeg:https://lazioeventi.com/wp-content/uploads/2023/
 04/sagra-fragole-carchitti-1.jpg
CATEGORIES:Sagre, Gastronomia e Tradizioni nel Lazio,Musica, Spettacoli e
 Danza nel Lazio,Sport, Tempo Libero e Divertimento nel Lazio
LOCATION:Palestrina\, Comune\, Palestrina\, Roma\, Lazio\, Italia
GEO:41.8399;12.8889
X-APPLE-STRUCTURED-LOCATION;VALUE=URI;X-ADDRESS=Comune\, Palestrina\, Roma\
 , Lazio\, Italia;X-APPLE-RADIUS=100;X-TITLE=Palestrina:geo:41.8399,12.8889
END:VEVENT
BEGIN:VTIMEZONE
TZID:Europe/Rome
X-LIC-LOCATION:Europe/Rome
BEGIN:DAYLIGHT
DTSTART:20250330T030000
TZOFFSETFROM:+0100
TZOFFSETTO:+0200
TZNAME:CEST
END:DAYLIGHT
END:VTIMEZONE
END:VCALENDAR