BEGIN:VCALENDAR
VERSION:2.0
PRODID:-//wp-events-plugin.com//7.2.3.1//EN
TZID:Europe/Rome
X-WR-TIMEZONE:Europe/Rome
BEGIN:VEVENT
UID:30559@lazioeventi.com
DTSTART;TZID=Europe/Rome:20230506T100000
DTEND;TZID=Europe/Rome:20230507T234500
DTSTAMP:20230427T104232Z
URL:https://lazioeventi.com/eventi/sagra-delle-fragole
SUMMARY:Sagra delle Fragole - Palestrina - 6 Maggio 23 10:00
DESCRIPTION:A Carchitti\, in provincia di Roma\, torna la Sagra delle frago
 le.\n\nIn programma diverse attività\, dalle sfilate dei carri alle esibi
 zioni di danza. Non mancherà anche la musica dal vivo e il cabaret.\n\nUn
 a edizione spumeggiante\, piena di appuntamenti.\n\nEcco gli spettacoli mu
 sicali che animeranno la 44° edizione della saga elle Fagole a Carchitti.
 \n\n    6 MAGGIO Angelo Famao\n    7 MAGGIO SON cantano con YURI CILLONI B
 EPPE CARLETTI E SERGIO REGGIOLI DEI NOMADI\n    13 MAGGIO I FIGLI DELLE ST
 ELLE\n    14 MAGGIO FABRIZO CANTA MAX PEZZALI\n    7-14 ERRE SEI piazzale 
 della banca ore 16:00-19:00\n
ATTACH;FMTTYPE=image/jpeg:https://lazioeventi.com/wp-content/uploads/2022/
 04/fragole-carchitti-1.jpg
CATEGORIES:Sagre, Gastronomia e Tradizioni nel Lazio,Musica, Spettacoli e
 Danza nel Lazio,Sport, Tempo Libero e Divertimento nel Lazio
LOCATION:Palestrina\, Comune\, Palestrina\, Roma\, Lazio\, Italia
GEO:41.8399;12.8889
X-APPLE-STRUCTURED-LOCATION;VALUE=URI;X-ADDRESS=Comune\, Palestrina\, Roma\
 , Lazio\, Italia;X-APPLE-RADIUS=100;X-TITLE=Palestrina:geo:41.8399,12.8889
END:VEVENT
BEGIN:VTIMEZONE
TZID:Europe/Rome
X-LIC-LOCATION:Europe/Rome
BEGIN:DAYLIGHT
DTSTART:20230326T030000
TZOFFSETFROM:+0100
TZOFFSETTO:+0200
TZNAME:CEST
END:DAYLIGHT
END:VTIMEZONE
END:VCALENDAR