BEGIN:VCALENDAR
VERSION:2.0
PRODID:-//wp-events-plugin.com//7.2.3.1//EN
TZID:Europe/Rome
X-WR-TIMEZONE:Europe/Rome
BEGIN:VEVENT
UID:24915@lazioeventi.com
DTSTART:20240812T180000Z
DTEND:20240812T223000Z
DTSTAMP:20240730T075332Z
URL:https://lazioeventi.com/eventi/sagra-delle-marzoline-e-olive
SUMMARY:Sagra delle marzoline e olive - Esperia - 12 Agosto 24 19:00
DESCRIPTION:Il 12 agosto si terrà ad Esperia la "sagra delle marzoline e o
 live" in piazza Roma\, un evento storico per la cittadina e organizzato da
 lla Pro Loco che si adopera\, instancabile\, non solo nell'organizzazione 
 di eventi ma anche nella rivalutazione del territorio e delle antiche trad
 izioni.\n\nCi saranno ovviamente stand gastronomici e di dolci dove poter 
 gustare i piatti tipici tra cui anche le marzoline abbinate alle olive loc
 ali.\n\nUn abbinamento unico per gusto\, sapore e tradizione.\n\nPresenti 
 anche artisti\, artigiani\, antichi mestieri\, mercatino\n\nSERVIZIO NAVET
 TA GRATUITO
ATTACH;FMTTYPE=image/jpeg:https://lazioeventi.com/wp-content/uploads/2022/
 08/marzoline-esperie.jpg
CATEGORIES:Sagre, Gastronomia e Tradizioni nel Lazio,Musica, Spettacoli e
 Danza nel Lazio
LOCATION:Esperia\, Comune\, Esperia\, Frosinone\, Lazio\, Italia
GEO:41.3855;13.685
X-APPLE-STRUCTURED-LOCATION;VALUE=URI;X-ADDRESS=Comune\, Esperia\, Frosinon
 e\, Lazio\, Italia;X-APPLE-RADIUS=100;X-TITLE=Esperia:geo:41.3855,13.685
END:VEVENT
END:VCALENDAR