BEGIN:VCALENDAR
VERSION:2.0
PRODID:-//wp-events-plugin.com//7.2.3.1//EN
TZID:Europe/Rome
X-WR-TIMEZONE:Europe/Rome
BEGIN:VEVENT
UID:27852@lazioeventi.com
DTSTART;TZID=Europe/Rome:20230930T113000
DTEND;TZID=Europe/Rome:20231001T160000
DTSTAMP:20230921T211252Z
URL:https://lazioeventi.com/eventi/sagra-delle-more
SUMMARY:Sagra delle more - Capranica Prenestina - 30 Settembre 23 11:30
DESCRIPTION:Sabato 30 Settembre e Domenica 1° Ottobre si svolge la Sagra d
 elle More a Capranica Prenestina.\n\nQuesta festa ha come scopo quello di 
 far riscoprire un frutto dalle straordinarie proprietà antiossidanti.\n\n
 La Sagra delle More prevede un pranzo con degustazione di stornelli\, merc
 atino di prodotti tipici a base di more e tanto divertimento.\n\nGrande pr
 otagonista dell’evento\, oltre a tutti i prodotti a base di more (marmel
 late\, biscotti\, crostate\, dolci tipici locali\, ecc) acquistabili press
 o gli stand gastronomici\, sarà il Pranzo Degustazione che si terrà Dome
 nica 1° Ottobre in Piazza Pietro Baccelli.\nA fare da cornice al celebre 
 pranzo\, che già da diversi anni registra il tutto esaurito con uno o due
  giorni di anticipo\, la musica popolare de “I Cavesija” e\, a seguire
 \, la premiazione del CapraniQuiz\, celebre gioco virtuale che da anni coi
 nvolge centinaia di persone.\n\nDurante la due giorni si terranno inoltre 
 la rievocazioni dell’antica ricetta locale per la preparazione della mar
 mellata a base di more\, un prodotto che rappresenta un’eccellenza food 
 e che ambisce a traguardi sempre più importanti\, e l’escursione organi
 zzata dal Museo Civico Naturalistico dei Monti Prenestini che si terrà ne
 lla mattinata di Domenica 1° Ottobre.\n\nInfine\, grande novità di quest
 ’anno\, l’open day di equitazione nel nuovissimo Ranch Montagna Cavall
 i “Agromnia” che\, Sabato 30 Settembre\, sarà a disposizione per molt
 eplici attività: battesimo della sella per bambini\, cavalli in libertà\
 , messa in sella e prova di mountain trail per adulti.\n\nPer maggiori inf
 ormazioni o per prenotare i ticket pranzo degustazione è possibile contat
 tare i seguenti recapiti telefonici: 334.1146578 – 338.4236924.
ATTACH;FMTTYPE=image/jpeg:https://lazioeventi.com/wp-content/uploads/2020/
 10/sagra-more.jpg
CATEGORIES:Sagre, Gastronomia e Tradizioni nel Lazio
LOCATION:Capranica Prenestina\, Comune\, Capranica Prenestina\, Roma\, Lazi
 o\, Italia
GEO:41.8624;12.9523
X-APPLE-STRUCTURED-LOCATION;VALUE=URI;X-ADDRESS=Comune\, Capranica Prenesti
 na\, Roma\, Lazio\, Italia;X-APPLE-RADIUS=100;X-TITLE=Capranica Prenestina
 :geo:41.8624,12.9523
END:VEVENT
BEGIN:VTIMEZONE
TZID:Europe/Rome
X-LIC-LOCATION:Europe/Rome
BEGIN:DAYLIGHT
DTSTART:20230326T030000
TZOFFSETFROM:+0100
TZOFFSETTO:+0200
TZNAME:CEST
END:DAYLIGHT
END:VTIMEZONE
END:VCALENDAR