BEGIN:VCALENDAR
VERSION:2.0
PRODID:-//wp-events-plugin.com//7.2.3.1//EN
TZID:Europe/Rome
X-WR-TIMEZONE:Europe/Rome
BEGIN:VEVENT
UID:41428@lazioeventi.com
DTSTART;TZID=Europe/Rome:20250601T180000
DTEND;TZID=Europe/Rome:20250601T230000
DTSTAMP:20250506T070312Z
URL:https://lazioeventi.com/eventi/sagra-delle-pennette-tricolore
SUMMARY:Sagra delle Pennette Tricolore - Agosta - 1 Giugno 25 18:00
DESCRIPTION:Vieni a gustare le famose permette tricolore\, simbolo di gusto
  e tradizione italiana! Una giornata di sapori\, musica e divertimento per
  tutta la famiglia! \n\nMusica dal vivo \nStand gastronomici \nProdotti ti
 pici \nARROSTICINI PANINI CON SALSICCIA \n\nINGRESSO LIBERO \n\nEvento org
 anizzato dalla PRO LOCO DI AGOSTA\n
ATTACH;FMTTYPE=image/jpeg:https://lazioeventi.com/wp-content/uploads/2025/
 05/sagra-pennette-agosta.jpg
CATEGORIES:Sagre, Gastronomia e Tradizioni nel Lazio
LOCATION:Agosta\, Agosta\, Agosta\, Roma\, Lazio\, Italia
GEO:41.9804845;13.036027900000022
X-APPLE-STRUCTURED-LOCATION;VALUE=URI;X-ADDRESS=Agosta\, Agosta\, Roma\, La
 zio\, Italia;X-APPLE-RADIUS=100;X-TITLE=Agosta:geo:41.9804845,13.036027900
 000022
END:VEVENT
BEGIN:VTIMEZONE
TZID:Europe/Rome
X-LIC-LOCATION:Europe/Rome
BEGIN:DAYLIGHT
DTSTART:20250330T030000
TZOFFSETFROM:+0100
TZOFFSETTO:+0200
TZNAME:CEST
END:DAYLIGHT
END:VTIMEZONE
END:VCALENDAR