BEGIN:VCALENDAR
VERSION:2.0
PRODID:-//wp-events-plugin.com//7.2.3.1//EN
TZID:Europe/Rome
X-WR-TIMEZONE:Europe/Rome
BEGIN:VEVENT
UID:39965@lazioeventi.com
DTSTART;TZID=Europe/Rome:20241020T120000
DTEND;TZID=Europe/Rome:20241020T153000
DTSTAMP:20240930T082011Z
URL:https://lazioeventi.com/eventi/sagra-delle-sagne-2
SUMMARY:Sagra delle Sagne - Vallinfreda - 20 Ottobre 24 12:00
DESCRIPTION:29ª Sagra delle Sagne - 20 Ottobre 2024  - VALLINFREDA (Ro
 ma) - PIAZZA DEL MERCATO  dalle ORE 12.00\n\nSagne fatte a mano dalle Don
 ne di Vallinfreda e servite con sugo di pomodoro ed aglio secondo la tradi
 zione\n\nPanino con Salsiccia cotta alla brace con broccoletti del territo
 rio\n\nnon mancherà un buon bicchiere di vino\n\nEuro 15\,00\n\nPer info
  347 7022193\n\nPer raggiungerci in auto\, Autostrada A24 uscita Carsoli 
 Oricola e seguire le indicazioni stradali\n\nn.b. In caso di maltempo l
 a sagra sarà rinviata a domenica 27 ottobre
ATTACH;FMTTYPE=image/jpeg:https://lazioeventi.com/wp-content/uploads/2013/
 09/sagne.jpg
CATEGORIES:Sagre, Gastronomia e Tradizioni nel Lazio
LOCATION:Vallinfreda\, Comune di Vallinfreda\, Vallinfreda\, Roma\, Lazio\,
  Italia
GEO:42.0844;12.9955
X-APPLE-STRUCTURED-LOCATION;VALUE=URI;X-ADDRESS=Comune di Vallinfreda\, Val
 linfreda\, Roma\, Lazio\, Italia;X-APPLE-RADIUS=100;X-TITLE=Vallinfreda:ge
 o:42.0844,12.9955
END:VEVENT
BEGIN:VTIMEZONE
TZID:Europe/Rome
X-LIC-LOCATION:Europe/Rome
BEGIN:DAYLIGHT
DTSTART:20240331T030000
TZOFFSETFROM:+0100
TZOFFSETTO:+0200
TZNAME:CEST
END:DAYLIGHT
END:VTIMEZONE
END:VCALENDAR