BEGIN:VCALENDAR
VERSION:2.0
PRODID:-//wp-events-plugin.com//7.2.3.1//EN
TZID:Europe/Rome
X-WR-TIMEZONE:Europe/Rome
BEGIN:VEVENT
UID:42396@lazioeventi.com
DTSTART:20251010T093000Z
DTEND:20251012T213000Z
DTSTAMP:20250912T090201Z
URL:https://lazioeventi.com/eventi/sagra-delle-tacchie-ai-funghi-porcini-2
 025-10-03-2025-10-10
SUMMARY:Sagra delle Tacchie ai funghi porcini - Bellegra - 10 Ottobre 25 10
 :30
DESCRIPTION:La XVII Sagra delle Tacchie ai Funghi Porcini torna a Bellegra!
  3-4-5 e 10-11-12 ottobre 2025\n\nUn appuntamento imperdibile per gli aman
 ti della buona cucina e delle tradizioni!\n\n6 giorni per gustare le nostr
 e deliziose tacchie ai funghi porcini e tante novità in arrivo!\n\nSi pot
 ranno gustare meravigliosi piatti a base di funghi a pranzo e a cena press
 o gli stand gastronomici\, vi saranno mercatini artigianali\, spettacoli m
 usicali e folckloristici\, una meravigliosa area giochi per bambini.\n\nDa
  non perdere assolutamente Venerdì 3 Ottobre la serata degli chef “Sent
 ieri Gastronomici”\, Sabato 4 Ottobre lo spettacolo “90 Mania”\, Ven
 erdì 10 Ottobre “Pippo Palmieri” da Radio105 e Domenica 12 Ottobre il
  corteo storico “Gens Vitellia”\nDurante la Sagra sarà possibile pran
 zare e cenare presso gli stand gastronomici degustando un menù da 20 € 
 che comprende pane e funghi porcini\, un piatto di tacchie ai funghi porci
 ni\, un secondo di carne con funghi porcini\, una bottiglina di vino o di 
 acqua. Alternativamente sarà possibile prendere i piatti del menù singol
 armente. Per i bambini è previsto un menù da 10 € con cotoletta\, pata
 tine e coca cola.\nSaranno presenti tre punti di distribuzione dei pasti d
 islocati in diverse zone del paese in modo da evitare spiacevoli file.\n\n
 Da visitare nei giorni della sagra delle tacchie ai funghi porcini le cara
 tteristiche Grotte dell’Arco\, situate a soli 3 km dal paese e aperte co
 n visita guidata sia la mattina dalle ore 10\,30 alle ore 12\,30 che il po
 meriggio dalle 15\,00 alle 18\,00.\n\nIn caso di maltempo l’evento si sv
 olgerà all’interno di un’ampia sala coperta e riscaldata.\n\nPer ragg
 iungere Bellegra: - Autostrada A1 Roma-Napoli\, uscire al casello di Valmo
 ntone e seguire le indicazioni per Bellegra. - Autostrada A24 Roma-L’Aqu
 ila\, uscire al casello di Castel Madama e seguire le indicazioni per Bell
 egra.\n\nPer informazioni: 3345719720 – 3920233947 - 3313272575\nVisitat
 e il sito internet di Bellegra: www.bellegra.eu e la pagina Facebook/Insta
 gram “Visit Bellegra”\n\nCosa potrai fare a Bellegra\n• Visitare le 
 Grotte dell'Arco\n• Rilassarti nell'inimitabile Parco Pubblico\n• Ammi
 rare Panorami negli splendidi punti panoramici del Borgo\n• Fare Trekkin
 g su percorsi adatti a tutti\n• Scoprire il Convento di San Francesco\n
 • Respirare aria buona\n• Immergerti nella piscina con vista panoramic
 a\, Panorama Pool (nella stagione estiva)\n• Degustare prodotti locali e
  genuini a Km0.\n\nBellegra è vincitrice del "Marchio Nazionale di Qualit
 à dell'Ambiente di vita" e "Comune Fiorito".
ATTACH;FMTTYPE=image/jpeg:https://lazioeventi.com/wp-content/uploads/2022/
 09/LOCANDINA-SAGRA-DELLE-TACHIE-AI-FUNGHI-PORCINI-BELLEGRA.jpg
CATEGORIES:Sagre, Gastronomia e Tradizioni nel Lazio
LOCATION:Bellegra\, Comune\, Bellegra\, Roma\, Lazio\, Italia
GEO:41.8821;13.0285
X-APPLE-STRUCTURED-LOCATION;VALUE=URI;X-ADDRESS=Comune\, Bellegra\, Roma\, 
 Lazio\, Italia;X-APPLE-RADIUS=100;X-TITLE=Bellegra:geo:41.8821,13.0285
END:VEVENT
END:VCALENDAR