BEGIN:VCALENDAR
VERSION:2.0
PRODID:-//wp-events-plugin.com//7.2.3.1//EN
TZID:Europe/Rome
X-WR-TIMEZONE:Europe/Rome
BEGIN:VEVENT
UID:31664@lazioeventi.com
DTSTART;TZID=Europe/Rome:20240712T190000
DTEND;TZID=Europe/Rome:20240712T230000
DTSTAMP:20250623T191114Z
URL:https://lazioeventi.com/eventi/sagra-egli-cazzaregli
SUMMARY:Sagra degli Cazzaregli - Anticoli Corrado - 12 Luglio 24 19:00
DESCRIPTION:Di nuovo insieme per gustare il piatto tipico anticolano\, i Ca
 zzaregli!\nPasta casereccia fatta a mano e condita con sugo di pomodoro. S
 olo a cena.\n\nVi aspettiamo in piazza delle Ville per trascorrere una ser
 ata insieme con musica e buon cibo!
ATTACH;FMTTYPE=image/jpeg:https://lazioeventi.com/wp-content/uploads/2022/
 07/sagra-cazzaregli-anticoli-corrado.jpg
CATEGORIES:Sagre, Gastronomia e Tradizioni nel Lazio
LOCATION:Anticoli Corrado\, Comune\, Anticoli Corrado\, Roma\, Lazio\, Ital
 ia
GEO:41.9814;13.0326
X-APPLE-STRUCTURED-LOCATION;VALUE=URI;X-ADDRESS=Comune\, Anticoli Corrado\,
  Roma\, Lazio\, Italia;X-APPLE-RADIUS=100;X-TITLE=Anticoli Corrado:geo:41.
 9814,13.0326
END:VEVENT
BEGIN:VTIMEZONE
TZID:Europe/Rome
X-LIC-LOCATION:Europe/Rome
BEGIN:DAYLIGHT
DTSTART:20240331T030000
TZOFFSETFROM:+0100
TZOFFSETTO:+0200
TZNAME:CEST
END:DAYLIGHT
END:VTIMEZONE
END:VCALENDAR