BEGIN:VCALENDAR
VERSION:2.0
PRODID:-//wp-events-plugin.com//7.2.3.1//EN
TZID:Europe/Rome
X-WR-TIMEZONE:Europe/Rome
BEGIN:VEVENT
UID:40067@lazioeventi.com
DTSTART;TZID=Europe/Rome:20241028T090000
DTEND;TZID=Europe/Rome:20241028T180000
DTSTAMP:20241016T145749Z
URL:https://lazioeventi.com/eventi/salone-delle-lingue
SUMMARY:Salone delle Lingue - Roma - 28 Ottobre 24 09:00
DESCRIPTION:Incontri\, workshop ed eventi aperti al pubblico per conoscere 
 i molteplici percorsi delle lingue all’estero\n\nUn’iniziativa organiz
 zata da IALCA con il patrocinio dell’ENIT - Agenzia Nazionale del \nTuri
 smo\, della Fiavet\, della Regione Lazio\, di Roma Capitale\ne del British
  Council\n\n\nIngresso libero con iscrizione al sito https://www.ialca.it/
 iscrizione-salone-delle-lingue/\n \n\nLa quinta edizione del Salone dell
 e Lingue\, evento unico in Italia in cui studenti\, famiglie e docenti ita
 liani interessati ai percorsi di lingue all’estero potranno incontrare u
 na selezione delle migliori scuole di lingue e operatori del settore\, avr
 à luogo lunedì 28 ottobre presso lo spazio WeGil di Roma (Largo Asciangh
 i 5\, Trastevere). Un’iniziativa\, organizzata da IALCA\, l’Associazio
 ne Italiana degli Agenti specializzati nei percorsi di studio all’estero
 \, che offre la possibilità di incontrare – tramite incontri vis-à-vi
 s\, meeting pubblici e seminari\, alcune delle più prestigiose realtà in
 ternazionali per conoscere al meglio le singole offerte formative e riceve
 re consulenze ad personam con il supporto delle agenzie IALCA associate.\n
 \n \n\nLa giornata prevede la partecipazione di scuole di lingue da Gran B
 retagna\, Irlanda\, Malta\, Stati Uniti\, Canada\, Australia\, Nuova Zelan
 da e Spagna che illustreranno la completezza e l’originalità della prop
 ria offerta\, alternandosi in un ricco programma di eventi\, talk e worksh
 op con i rappresentanti di istituzioni straniere\, all’insegna della pro
 mozione dell’apprendimento delle lingue\, oramai indispensabile a tutti.
 \n\n \n\nUn panorama variegato sulle destinazioni offerte proporrà divers
 e opportunità e modalità di orientamento\, con possibilità di alternanz
 a studio-lavoro nel luogo prescelto. All’interno del Salone delle Lingue
  si svolgeranno anche tre interessanti seminari rivolti a chi insegna ling
 ue straniere.\n\n \n\nPina Foti\, Presidente IALCA\, da oltre trent’anni
  esperta del settore education\, dichiara: “Giunto alla sua quinta edizi
 one il Salone delle Lingue è un appuntamento importante per chi vuole ave
 re un ampio panorama sulle tante possibilità offerte da alcune tra le mig
 liori High School\, College e Boarding School all’estero. La consulenza 
 delle agenzie che fanno parte di IALCA\, presenti in tutta Italia\, assicu
 ra a chiunque voglia organizzare un percorso di ‘study abroad’ una cos
 tante assistenza prima\, durante e dopo il corso”.\n\n \n\nUn’altra ma
 teria di approfondimento\, con dati forniti dall’ ENIT - Agenzia Naziona
 le del Turismo\, sarà il Turismo Idiomatico che negli ultimi anni ha regi
 strato una crescita significativa\, offrendo ai visitatori l'opportunità 
 unica di imparare la lingua e la cultura italiana. Questo tipo di turismo\
 , che trova radici nei paesi anglofoni\, ha visto uno sviluppo costante in
  Italia dagli anni '90 e si configura oggi come una delle risorse più im
 portanti per il turismo culturale del paese. Grazie all’impegno delle sc
 uole private di lingua e cultura italiana\, il Turismo Idiomatico promuove
  un'esperienza autentica e sostenibile\, capace di destagionalizzare i flu
 ssi turistici e generare un forte impatto economico e sociale.\n\n \n\nTra
  i partner del Salone delle lingue 2024 saranno presenti il British Counci
 l\, Air Canada\, l’associazione di scuole britanniche English UK\, organ
 izzazioni che propongono esami ufficialmente riconosciuti come LanguageCer
 t\, e Guard.me.\n\n \n\nPer partecipare basta registrare la propria presen
 za sul sito al link https://www.ialca.it/iscrizione-salone-delle-lingue/\n
 \n \n\nIn palio\, per le scuole italiane che invieranno i loro studenti in
  visita al Salone\, l’estrazione di diverse borse di studio per un corso
  di lingue all’estero.\n \n\nLa IALCA è l’Associazione Italiana deg
 li Agenti specializzati nel settore dell’education e dei percorsi di stu
 dio delle lingue all’estero\, con lo scopo di promuovere la qualità e l
 a professionalità delle imprese nel settore e difendere gli interessi deg
 li studenti. IALCA è una garanzia di qualità delle imprese italiane asso
 ciate e delle Scuole di lingue internazionali selezionate\, che condividon
 o elevati standard qualitativi su tutti i servizi.\n\n IALCA è membro del
 la Federazione Italiana Associazioni Imprese Viaggi e Turismo\, FIAVET-Con
 fcommercio\, ed è tra i soci fondatori della FELCA - Federazione Mondial
 e dei Consulenti Linguistici per lo Study Abroad.\n \n\nIALCA Via Tibull
 o 16\, Roma\nInfoline: Tel: +39 351 6074647 - +39 06 68307796 - segreteria
 @ialca.it\nSito ufficiale: www.ialca.it
ATTACH;FMTTYPE=image/jpeg:https://lazioeventi.com/wp-content/uploads/2024/
 10/5-SdL-cartolina-2024_10x15-1.jpg
CATEGORIES:Arte e Cultura nel Lazio
LOCATION:Roma\, Via Leopardi\, Roma\, Roma\, Lazio\, Italia
GEO:41.8942;12.5017
X-APPLE-STRUCTURED-LOCATION;VALUE=URI;X-ADDRESS=Via Leopardi\, Roma\, Roma\
 , Lazio\, Italia;X-APPLE-RADIUS=100;X-TITLE=Roma:geo:41.8942,12.5017
END:VEVENT
BEGIN:VTIMEZONE
TZID:Europe/Rome
X-LIC-LOCATION:Europe/Rome
BEGIN:STANDARD
DTSTART:20241027T020000
TZOFFSETFROM:+0200
TZOFFSETTO:+0100
TZNAME:CET
END:STANDARD
END:VTIMEZONE
END:VCALENDAR