BEGIN:VCALENDAR
VERSION:2.0
PRODID:-//wp-events-plugin.com//7.2.3.1//EN
TZID:Europe/Rome
X-WR-TIMEZONE:Europe/Rome
BEGIN:VEVENT
UID:42776@lazioeventi.com
DTSTART;TZID=Europe/Rome:20251023T210000
DTEND;TZID=Europe/Rome:20251102T210000
DTSTAMP:20251016T160709Z
URL:https://lazioeventi.com/eventi/samuel-beckett-aspettando-godot
SUMMARY:Samuel Beckett “Aspettando Godot” - Roma - 23 Ottobre 25 21:00
DESCRIPTION:Torna al Teatro degli Audaci la più celebre opera teatrale di 
 Samuel Beckett “Aspettando Godot”\nDal 23 ottobre al 2 novembre 2025 
 – Via Giuseppe De Santis 29 Roma \n \nDiretto dal direttore artistico
  Flavio De Paola\, dopo il grande successo ottenuto dalla critica e defin
 ito "uno dei migliori spettacoli del 2017" ritorna in scena al teatro de
 gli Audaci “Aspettando Godot” dal 23 ottobre al 2 novembre 2025!\nA
 spettando Godot è senza dubbio la più celebre opera teatrale di Samuel 
 Beckett nonché uno dei testi più noti del teatro del Novecento.\nRitrove
 remo Flavio De Paola nei panni sia di attore che di regista affiancato d
 a Gianluca Delle Fontane\, Ilario Crudetti ed Emiliano Ottaviani nell
 a famosissima rappresentazione teatrale.\n\nDue uomini\, Estragone e Vladi
 miro\, vestiti come vagabondi\, si ritrovano sotto un salice piangente spo
 glio\, lungo una strada desolata di campagna. Aspettano un certo Godot\, c
 he ha promesso di incontrarli… ma nessuno sa quando\, né chi sia davver
 o. Sognano che\, al suo arrivo\, li accoglierà nella sua casa\, offrirà 
 loro cibo caldo e un rifugio sicuro.\n \nLa loro lunga attesa è interrot
 ta dall’arrivo di due personaggi singolari: Pozzo\, un proprietario terr
 iero dall’atteggiamento teatrale e autoritario\, e Lucky\, il suo servit
 ore sottomesso e legato al guinzaglio. Il loro passaggio dà vita a una se
 rie di dialoghi surreali\, monologhi intensi e momenti comici che alternan
 o ironia\, riflessione e malinconia.\n \nQuando cala la sera\, Godot anco
 ra non si è visto. Arriva invece un ragazzo\, messaggero enigmatico\, che
  annuncia che l’uomo non verrà quella sera\, ma sicuramente domani.\nRe
 steranno Vladimiro ed Estragone ad aspettarlo? O sceglieranno di andare vi
 a?\n \nConsiderata una delle opere più significative del teatro del Nove
 cento\, “Aspettando Godot” è il capolavoro con cui Samuel Beckett met
 te in scena la condizione umana: l’attesa di un cambiamento che non arri
 va mai\, la tensione costante tra speranza e immobilità\, il bisogno di d
 are un senso al tempo che scorre. Con linguaggio poetico\, ironico e spiaz
 zante\, Beckett racconta l’assurdo della vita moderna e la profonda frag
 ilità dell’uomo di fronte al vuoto dell’esistenza.\n\n \nUn’opera 
 teatrale molto divertente\, dove la parola “Godot” composta dalle paro
 le “go” e “dot” significa\, appunto\, rispettivamente “va” e 
 “fermo” e dove Samuel Beckett sottolinea la frustrazione dell’uomo
  nel suo tentativo fallimentare di “muoversi”\, procedere e cambiare l
 a sua posizione.\n \nL’opera è divisa in due atti\, dove\, apparenteme
 nte\, sembra tutto fermo\, ma\, al contrario\, “tutto è in movimento”
 .\n \nMa senza dare ulteriori anticipazioni vi invitiamo al Teatro degli 
 Audaci per assistere ad uno spettacolo che farà ridere ma allo stesso tem
 po riflettere!\n \n \nLink - http://www.teatrodegliaudaci.it/\n \nInfo
 \nOrari botteghino: dal lunedì al sabato 10:00 – 13:00 / 15:00 – 20:0
 0 domenica: 15:00 -18:00
ATTACH;FMTTYPE=image/jpeg:https://lazioeventi.com/wp-content/uploads/2025/
 10/Locandina-Aspettando-godot-2-e1758046834697-768x989-1.jpg
CATEGORIES:Musica, Spettacoli e Danza nel Lazio
LOCATION:Roma\, Via Leopardi\, Roma\, Roma\, Lazio\, Italia
GEO:41.8942;12.5017
X-APPLE-STRUCTURED-LOCATION;VALUE=URI;X-ADDRESS=Via Leopardi\, Roma\, Roma\
 , Lazio\, Italia;X-APPLE-RADIUS=100;X-TITLE=Roma:geo:41.8942,12.5017
END:VEVENT
BEGIN:VTIMEZONE
TZID:Europe/Rome
X-LIC-LOCATION:Europe/Rome
BEGIN:DAYLIGHT
DTSTART:20250330T030000
TZOFFSETFROM:+0100
TZOFFSETTO:+0200
TZNAME:CEST
END:DAYLIGHT
BEGIN:STANDARD
DTSTART:20251026T020000
TZOFFSETFROM:+0200
TZOFFSETTO:+0100
TZNAME:CET
END:STANDARD
END:VTIMEZONE
END:VCALENDAR