BEGIN:VCALENDAR
VERSION:2.0
PRODID:-//wp-events-plugin.com//7.2.3.1//EN
TZID:Europe/Rome
X-WR-TIMEZONE:Europe/Rome
BEGIN:VEVENT
UID:36316@lazioeventi.com
DTSTART:20230825T161500Z
DTEND:20230827T220000Z
DTSTAMP:20230713T053752Z
URL:https://lazioeventi.com/eventi/santa-severa-un-castello-sempre-aperto-
 2023-08-25
SUMMARY:Santa Severa\, visite guidate al tramonto - Santa Marinella - 25 Ag
 osto 23 17:15
DESCRIPTION:Santa Severa: al Castello visite guidate al tramonto e sulla To
 rre Saracena sotto le stelle\n\nLa cultura non va in ferie\, dal 14 luglio
  partono gli appuntamenti con  le Visite guidate al tramonto al Castello d
 i Santa Severa\, spazio della Regione Lazio gestito dalla società regiona
 le LAZIOcrea d’intesa con la Soprintendenza Belle Arti e paesaggio Etrur
 ia meridionale e il Comune di Santa Marinella.  \n\nComprese nella visita 
 guidata nel borgo l'ingresso ai  musei\, la mostra permanente di abiti d
 ’epoca\, il  Battistero con gli affreschi della scuola di Antoniazzo Rom
 ano recentemente restaurati\, il Borgo e la Rocca\, un esempio di continui
 tà di vita e di storia.\n\nAlle visite guidate si aggiunge la visita alla
  Torre Saracena\, anche notturna sotto le stelle\, l’antica fortificazio
 ne cilindrica edificata a metà del IX secolo per volere del papa Leone IV
  che\, a seguito di continui rifacimenti\, è giunta a noi nella sua strut
 tura visibile oggi e datata tra il XVI e il XVII secolo.\n\nIl biglietto i
 n ingresso include anche la visita ai Musei esistenti nella fortezza. Entr
 ando si trova Il Museo del mare e della navigazione antica è stato comple
 tamente rinnovato e arricchito. Sette sale e oltre cento reperti\, lungo u
 n percorso espositivo e didattico incentrato sull’archeologia subacquea 
 e la navigazione antica\, che raccoglie anche le testimonianze provenienti
  dai fondali del litorale cerite\, tra Alsium e Centumcellae\, con partico
 lare riferimento al porto di Pyrgi. Proseguendo la visita nella parte più
  antica della Rocca si raggiunge  il Museo del Castello con una superficie
  interna di 800 metri quadrati si snoda su tre livelli dove sono esposti a
 lcuni dei reperti portati alla luce\, grazie agli scavi svolti in contempo
 ranea ai lavori di restauro\, curati dalla Soprintendenza e dai volontari 
 del Gruppo archeologico del territorio Cerite.\n\nIl museo è arricchito d
 a pannelli illustrativi\, gigantografie\, video-proiezioni e ricostruzioni
  3D e realtà aumentata di ambienti\, strumenti\, armi e strumenti che rac
 contano la storia e la vita del Castello\, del Borgo e della tenuta\, dall
 ’epoca etrusca al martirio di Santa Severa\, dall’età romana e mediev
 ale ai giorni nostri. Sono visibili  una ricostruzione della cucina e dell
 a mensa medievale con i resti dei pasti e gli oggetti originali rinvenuti 
 negli scavi\; il sigillo di Pietro Romano Bonaventura. Visitabili anche la
  cappella interna della Rocca\, la sala con gli affreschi dell’epoca di 
 Papa Urbano VIII.\n\nGrazie a un’indagine antropologica sul cimitero med
 ievale condotta dall’Università di Tor Vergata\, si possono ammirare le
  ricostruzioni dei volti e dei costumi\, l’alimentazione\, le malattie\,
  la vita e la morte della popolazione vissuta in età medievale nel Castel
 lo. Il Castello è appartenuto anche a molte famiglie nobili romane come T
 iniosi\, Bonaventura Venturini e Di Vico. Nei tre piani del Museo sono esp
 osti gli abiti\, fedelmente ricostruiti da Teresa Venuto Riccardi\, che ri
 percorrono le varie epoche storiche.\n\nIl Museo del mare e della navigazi
 one antica è stato completamente rinnovato e arricchito. Sette sale e olt
 re cento reperti\, lungo un percorso espositivo e didattico incentrato sul
 l’archeologia subacquea e la navigazione antica\, che raccoglie anche le
  testimonianze provenienti dai fondali del litorale cerite\, tra Alsium e 
 Centumcellae\, con particolare riferimento al porto di Pyrgi.\n\nOrari e c
 osti:\ndal venerdì alla domenica visita guidata al Castello e al Borgo di
  Santa Severa\, due turni di partenza ore 20.00 e 21.30\, visita + bigliet
 to ridotto di ingresso ai Musei ( € 12.00)\n\nsabato e domenica Torre Sa
 racena\, dalle 17.20 alle 23.20\, biglietto di ingresso ai Musei con visit
 a libera € 8.00+ 3€ visita accompagnata sulla Torre\n\nPrenotazione gr
 atuita  online sul sito www.castellodisantasevera.it oppure direttamente p
 resso la biglietteria dalle ore 17:00
ATTACH;FMTTYPE=image/jpeg:https://lazioeventi.com/wp-content/uploads/2017/
 05/estate-santa-severa.jpg
CATEGORIES:Arte e Cultura nel Lazio
LOCATION:Santa Marinella\, Comune di Santa Marinella\, Santa Marinella\, Ro
 ma\, Lazio\, Italia
GEO:42.0344;11.8545
X-APPLE-STRUCTURED-LOCATION;VALUE=URI;X-ADDRESS=Comune di Santa Marinella\,
  Santa Marinella\, Roma\, Lazio\, Italia;X-APPLE-RADIUS=100;X-TITLE=Santa 
 Marinella:geo:42.0344,11.8545
END:VEVENT
END:VCALENDAR