BEGIN:VCALENDAR
VERSION:2.0
PRODID:-//wp-events-plugin.com//7.2.3.1//EN
TZID:Europe/Rome
X-WR-TIMEZONE:Europe/Rome
BEGIN:VEVENT
UID:38480@lazioeventi.com
DTSTART;TZID=Europe/Rome:20240210T180000
DTEND;TZID=Europe/Rome:20240210T200000
DTSTAMP:20240207T120718Z
URL:https://lazioeventi.com/eventi/santagostino-la-citta-di-dio
SUMMARY:Sant'Agostino la Città di Dio - Itri - 10 Febbraio 24 18:00
DESCRIPTION:V° Appuntamento della X Edizione della Stagione di Confronti
 ‼️\n\nOspite: NILO CARDILLO \nFilosofo e Saggista \n\nLa “Città di 
 Dio” quest'opera monumentale di Sant'Agostino\, il primo grande saggio d
 i teologia della storia e uno dei testi più significativi della letteratu
 ra cristiana e universale.\nSicuramente non è improprio affermare che al 
 centro del pensiero di sant'Agostino vi è Agostino stesso\, la densità e
  la ricchezza della sua vicenda esistenziale\, il suo cammino arduo e torm
 entato\, una vita concepita e vissuta come ricerca e come testimonianza. A
 gostino sente il bisogno di un libro molto lungo\, di 22 quaderni\, per pr
 esentare non soltanto una difesa del Cristianesimo\, ma per dimostrare com
 e non si possa fare affidamento sulla città terrena\, cioè sulla politic
 a\, perché la politica è dominata dalla libido del dominio\, cioè dalla
  violenza e dalla sopraffazione. Agostino è un pensatore decisivo per la 
 storia d'Occidente\, perché "deci¬sivi" vanno chiamati quei pensatori ch
 e offrono a una cultura\, a un popolo\, a una civiltà\, le condizioni per
  pensare e comprende¬re se stessi. Introducendo il concetto di "anima"\, 
 ha posto le basi dell'individualismo occidentale e\, visualizzando il temp
 o come tempo della salvezza\, ha inaugurato la "storia". \n\nIngresso Grat
 uito
ATTACH;FMTTYPE=image/jpeg:https://lazioeventi.com/wp-content/uploads/2024/
 02/Agostino-la-Citta-di-Dio.jpg
CATEGORIES:Arte e Cultura nel Lazio
LOCATION:Itri\, Piazza Umberto I\, Itri\, Latina\, Lazio\, Italia
GEO:41.290876;13.531233
X-APPLE-STRUCTURED-LOCATION;VALUE=URI;X-ADDRESS=Piazza Umberto I\, Itri\, L
 atina\, Lazio\, Italia;X-APPLE-RADIUS=100;X-TITLE=Itri:geo:41.290876,13.53
 1233
END:VEVENT
BEGIN:VTIMEZONE
TZID:Europe/Rome
X-LIC-LOCATION:Europe/Rome
BEGIN:STANDARD
DTSTART:20231029T020000
TZOFFSETFROM:+0200
TZOFFSETTO:+0100
TZNAME:CET
END:STANDARD
END:VTIMEZONE
END:VCALENDAR