BEGIN:VCALENDAR
VERSION:2.0
PRODID:-//wp-events-plugin.com//7.2.3.1//EN
TZID:Europe/Rome
X-WR-TIMEZONE:Europe/Rome
BEGIN:VEVENT
UID:37904@lazioeventi.com
DTSTART;TZID=Europe/Rome;VALUE=DATE:20231130
DTEND;TZID=Europe/Rome;VALUE=DATE:20231204
DTSTAMP:20231123T003220Z
URL:https://lazioeventi.com/eventi/santandrea-patrono-di-paliano
SUMMARY:Sant’Andrea patrono di Paliano - Paliano - 30 Novembre 23 00:00
DESCRIPTION:Il 30 novembre ricorre S.Andrea Apostolo\, patrono di Paliano\,
  festa da sempre molto sentita da tutti i palianesi. \n\nI festeggiamenti 
 inizieranno da giovedì 30 novembre a seguire.
ATTACH;FMTTYPE=image/jpeg:https://lazioeventi.com/wp-content/uploads/2023/
 11/sandrea_paliano2023.jpg
CATEGORIES:Musica, Spettacoli e Danza nel Lazio,Sagre, Gastronomia e
 Tradizioni nel Lazio,Sport, Tempo Libero e Divertimento nel Lazio,Varie
LOCATION:Paliano\, Comune\, Paliano\, Frosinone\, Lazio\, Italia
GEO:41.8048;13.0599
X-APPLE-STRUCTURED-LOCATION;VALUE=URI;X-ADDRESS=Comune\, Paliano\, Frosinon
 e\, Lazio\, Italia;X-APPLE-RADIUS=100;X-TITLE=Paliano:geo:41.8048,13.0599
END:VEVENT
BEGIN:VTIMEZONE
TZID:Europe/Rome
X-LIC-LOCATION:Europe/Rome
BEGIN:STANDARD
DTSTART:20231029T020000
TZOFFSETFROM:+0200
TZOFFSETTO:+0100
TZNAME:CET
END:STANDARD
END:VTIMEZONE
END:VCALENDAR