BEGIN:VCALENDAR
VERSION:2.0
PRODID:-//wp-events-plugin.com//7.2.3.1//EN
TZID:Europe/Rome
X-WR-TIMEZONE:Europe/Rome
BEGIN:VEVENT
UID:35031@lazioeventi.com
DTSTART;TZID=Europe/Rome:20230415T173000
DTEND;TZID=Europe/Rome:20230415T190000
DTSTAMP:20230412T085616Z
URL:https://lazioeventi.com/eventi/sapienza-antica-arte-contemporanea
SUMMARY:Sapienza Antica Arte Contemporanea - Tarquinia - 15 Aprile 23 17:30
DESCRIPTION:Alla sala Sacchetti prosegue il denso calendario di incontri cu
 lturali promosso dalla Società Tarquiniense d’Arte e Storia (STAS). Sab
 ato 15 aprile\, alle 17\,30\, al civico 4 di via dell’Archetto\, si terr
 à la presentazione del libro “Sapienza Antica Arte Contemporanea” (Cl
 audiana Editrice 2023)\, del pittore e scultore Marcello Silvestri\, alla 
 quale parteciperanno il cardinale Francesco Coccopalmerio\, presidente eme
 rito del Pontificio Consiglio per i Testi Legislativi\, e il teologo Paolo
  Ricca\, pastore della Chiesa valdese. Il testo è una meditazione visiva 
 sull'attualissimo tema della relazione tra arte e sacro. Un'opera del tutt
 o originale\, non solo dal punto estetico e contemplativo\, ma anche come 
 riflessione intellettuale ed esperienza vissuta di spiritualità e impegno
  nel sociale alla luce delle Sacre Scritture e dell'ecumenismo. “Siamo o
 norati di ospitare la presentazione del libro di Silvestri – afferma la 
 presidente della STAS Alessandra Sileoni -. Un’artista affermato e appre
 zzato che ha esposto in Italia e all’estero e che ha scelto Tarquinia\, 
 come luogo dove vivere e trovare ispirazione per le sue opere. Esempio ne 
 è la pregevolissima mostra inaugurata nell’estate di un anno fa al Muse
 o Archeologico Nazionale\, che ha riscosso consensi di critica e pubblico
 ”.\n \n"Si parla molto della quasi assenza dei temi sacri nell'arte cont
 emporanea mentre la Chiesa cattolica e i papi recenti hanno ripetutamente 
 sollecitato ed elogiato gli artisti “predicatori di bellezza” – dich
 iara Silvestri -. Spesso però i circoli di arte contemporanea temono il r
 eligioso mentre alla Chiesa manca il coraggio di esplorare le sperimentazi
 oni artistiche contemporanee. Così si riduce a riproporre autori o canoni
  del passato che\, pur essendo esempi aulici di bellezza\, non nascono dal
 lo spirito del nostro tempo. La mia è una ricerca artistica che cerca di 
 andare oltre il didascalico del messaggio biblico\, mettendo quest'ultimo 
 in relazione ai dilemmi e alle inquietudini dell'umanità nell'antropocene
  in spirito ecumenico". “Sapienza Antica Arte Contemporanea” è stato 
 pubblicato in occasione della Settimana di Preghiera per l'Unità dei Cris
 tiani\, a gennaio di quest’anno. Una scelta che ha voluto sottolineare l
 a ricerca spirituale di Silvestri alla luce delle sue collaborazioni ed am
 icizie nate all'interno del Segretariato Attività Ecumeniche\, con il val
 dese Ricca e con varie comunità evangeliche\, tra cui quelle dei pastori 
 battisti Luca Negro e Italo Benedetti\, autori di prefazione e postfazione
 .\n \nNato a Castel d’Azzano\, in provincia di Verona\, Silvestri ha esp
 osto a Parigi\, New York\, Madrid\, Osaka\, Roma\, Milano\, Londra\, Liver
 pool e Bruxelles e ha pubblicato con Edizioni San Paolo e Paoline. Ha coll
 aborato in molti progetti con la Pontificia Università Gregoriana\, i fra
 ti Francescani\, i missionari Comboniani\, la Conferenza episcopale italia
 na (CEI)\, l’Unione cattolica artisti italiani (UCAI)\, alcune Chiese ba
 ttiste dell’Unione cristiana evangelica battista d’Italia (UCEBI)\, l
 ’Institut Catholique di Parigi\, la Chapelle de l’Europe di Bruxelles\
 , il Segretariato Attività Ecumeniche\, il periodico “Riforma”\, la S
 cuola di Alta Formazione in Arte e Teologia (Napoli)\, e vari programmi di
  attualità religiosa di Rai1\, Rai2 e TV2000. 
ATTACH;FMTTYPE=image/jpeg:https://lazioeventi.com/wp-content/uploads/2023/
 04/sapienza-antica-arte-contemporanea-2363.jpg
CATEGORIES:Arte e Cultura nel Lazio
LOCATION:Tarquinia\, Comune\, Tarquinia\, Viterbo\, Lazio\, Italia
GEO:42.2546;11.7584
X-APPLE-STRUCTURED-LOCATION;VALUE=URI;X-ADDRESS=Comune\, Tarquinia\, Viterb
 o\, Lazio\, Italia;X-APPLE-RADIUS=100;X-TITLE=Tarquinia:geo:42.2546,11.758
 4
END:VEVENT
BEGIN:VTIMEZONE
TZID:Europe/Rome
X-LIC-LOCATION:Europe/Rome
BEGIN:DAYLIGHT
DTSTART:20230326T030000
TZOFFSETFROM:+0100
TZOFFSETTO:+0200
TZNAME:CEST
END:DAYLIGHT
END:VTIMEZONE
END:VCALENDAR