BEGIN:VCALENDAR
VERSION:2.0
PRODID:-//wp-events-plugin.com//7.2.3.1//EN
TZID:Europe/Rome
X-WR-TIMEZONE:Europe/Rome
BEGIN:VEVENT
UID:39831@lazioeventi.com
DTSTART;TZID=Europe/Rome:20241013T100000
DTEND;TZID=Europe/Rome:20241013T190000
DTSTAMP:20240914T150519Z
URL:https://lazioeventi.com/eventi/sapori-dautunno-nerola-2
SUMMARY:Sapori d'Autunno - Nerola - 13 Ottobre 24 10:00
DESCRIPTION:LA PRO LOCO NEROLA\, PRESENTA: "SAPORI D’AUTUNNO"\n\nDOMENICA
  13 OTTOBRE 2024 – dalle ore 10:00\n\nSapori Nerolesi vi aspettano in qu
 esta domenica autunnale da trascorrere insieme alla famiglia. Piatti genui
 ni come i “fagioli con le Cicerchiole” (tipica e caratteristica pasta 
 all’uovo)\, i fantastici frittelli dove il broccolo avvolto dalla morbid
 a pastella\, preparata con largo anticipio e fatta lievitare\, sarà poi t
 uffato nell’olio bollente. Una volta fritto e dorato sarà pronto per es
 sere servito. Squisito caldo\, tiepido ma\, ancor meglio\, freddo! Inoltre
  le ormai famose salsicce casarecce nerolesi preparate a mano dal macellai
 o del paese e cotte sulla brace. Ancora…bruschette condite con l’olio 
 extra vergine di Nerola! Ottimo vino e dolci tipici.  Inoltre spettacolo 
 di musica dal vivo\, bellissimo centro storico da visitare\, attrazioni e 
 giochi per bambini. Alla fine della giornata anche balli di gruppo.\n\nORE
  10:00 - APERTURA MERCATINO\, PERCORSO AL CENTRO STORICO.\n\nORE 12:00 - A
 PERTURA STAND GASTRONOMICI - MUSICA DAL VIVO – GIOCHI ED ATTRAZIONI PER 
 BAMBINI\;\n\nMENU COMPLETO €15\nBruschetta con olio extra vergine delle 
 colline nerolesi\, fagioli e cicerchiole\, cartoccio di frittelli\, una bo
 ttiglietta di acqua oppure un bicchiere di vino.\nFUORI MENU\, VENDIBILE S
 INGOLARMENTE\nFagioli e Cicerchiole\, Cartoccio di frittelli\, Panino con 
 salsiccia cotta alla brace\, Crepes alla nutella e dolci della tradizione.
 \n\nDisponibile MENU NO CARNE\n\nVENITE A NEROLA\, VI ASPETTIAMO!\nInfo\, 
 pagina fbk: Pro Loco Nerola\nTel. 377.0970541\n\nN.B. in caso di maltempo 
 sarà rinviata alla domenica successiva.\n\nCOME RAGGIUNGERCI:\nNerola si 
 trova circa a metà strada tra Roma e Rieti\, all'interno della via Salari
 a.\n\n. Da Roma è possibile prendere l'A1 Firenze-Roma\, uscire a Fiano R
 omano e proseguire per circa 20km sulla Salaria in direzione Rieti\, ad al
 tezza Borgo Quinzio prendere l’uscita per Nerola\, proseguire sulla Via 
 Salaria Vecchia in direzione Acquaviva e quindi Nerola.\n\n. Da Rieti perc
 orrere via Salaria in direzione Roma e svoltare a destra all’uscita per 
 Nerola all’altezza di Corese Terra - Borgo Quinzio e proseguire quindi s
 ulla Via Salaria Vecchia in direzione Acquaviva e quindi Nerola.
ATTACH;FMTTYPE=image/jpeg:https://lazioeventi.com/wp-content/uploads/2024/
 09/SAPORI-D-AUTUNNO.jpg
CATEGORIES:Arte e Cultura nel Lazio,Fiere e Mercatini nel Lazio,Musica,
 Spettacoli e Danza nel Lazio,Sagre, Gastronomia e Tradizioni nel Lazio
LOCATION:Nerola\, Comune\, Nerola\, Roma\, Lazio\, Italia
GEO:42.1616;12.7868
X-APPLE-STRUCTURED-LOCATION;VALUE=URI;X-ADDRESS=Comune\, Nerola\, Roma\, La
 zio\, Italia;X-APPLE-RADIUS=100;X-TITLE=Nerola:geo:42.1616,12.7868
END:VEVENT
BEGIN:VTIMEZONE
TZID:Europe/Rome
X-LIC-LOCATION:Europe/Rome
BEGIN:DAYLIGHT
DTSTART:20240331T030000
TZOFFSETFROM:+0100
TZOFFSETTO:+0200
TZNAME:CEST
END:DAYLIGHT
END:VTIMEZONE
END:VCALENDAR