BEGIN:VCALENDAR
VERSION:2.0
PRODID:-//wp-events-plugin.com//7.2.3.1//EN
TZID:Europe/Rome
X-WR-TIMEZONE:Europe/Rome
BEGIN:VEVENT
UID:42994@lazioeventi.com
DTSTART;TZID=Europe/Rome:20251108T100000
DTEND;TZID=Europe/Rome:20251109T170000
DTSTAMP:20251104T090603Z
URL:https://lazioeventi.com/eventi/sapori-di-ieri-mani-di-domani
SUMMARY:Sapori di ieri\, mani di domani - Roma - 8 Novembre 25 10:00
DESCRIPTION:“Sapori di ieri\, mani di domani – Tradizione e qualità al
  Parco Calimera”\nL’eccellenza agroalimentare del Lazio arriva nel cuo
 re di Torre Angela.\n\nSabato 8 e domenica 9 novembre 2025\, dalle ore 10 
 alle 17\, il cuore del VI Municipio diventerà un laboratorio a cielo aper
 to\, ospitando l’evento “Sapori di ieri\, mani di domani – Tradizion
 e e qualità al Parco Calimera”.\n\nL’iniziativa\, a ingresso gratuito
 \, è organizzata da H2O Eventi – Associazione Culturale Sportiva Dilett
 antistica\, e nasce con l’obiettivo di unire cultura\, cibo e comunità\
 , valorizzando le eccellenze agroalimentari del Lazio e avvicinandole ai c
 ittadini\, con particolare attenzione ai quartieri periferici.\nUn appunta
 mento che trasformerà il parco in un luogo di incontro\, partecipazione e
  scoperta\, dove la tradizione incontra l’innovazione e le mani di oggi 
 imparano dai sapori di ieri.\nUn viaggio tra le eccellenze del Lazio\nIl P
 arco ospiterà un suggestivo percorso enogastronomico virtuale tra prodott
 i DOP\, IGP\, DOCG\, DOC\, IGT e biologici: un itinerario sensoriale tra i
 l Pecorino Romano DOP\, l’Olio della Sabina DOP\, il Pane di Genzano IGP
 \, la Porchetta di Ariccia IGP\, il Carciofo Romanesco IGP\, la Ricotta Ro
 mana DOP\, il vino Frascati Superiore DOCG\, e molte altre specialità del
 la tradizione contadina laziale.\n\nUn allestimento sostenibile e scenogra
 fico\, realizzato con materiali naturali\, balle di fieno\, cassette di le
 gno\, guiderà i visitatori tra gusto e cultura rurale.\nIl mercato e i la
 boratori intergenerazionali\nCuore pulsante dell’evento sarà il Mercati
 no dei Prodotti Locali\, dove saranno esposti prodotti tipici e offerte de
 gustazioni gratuite. \n\nAccanto al mercato\, prenderanno vita i Laborator
 i di cucina dal vivo\, momenti di incontro tra anziani del territorio e st
 udenti delle scuole alberghiere\, impegnati nella preparazione di piatti t
 ipici come l’amatriciana\, la gricia\, etc. Un’esperienza pubblica e i
 nterattiva per tramandare saperi\, ricette e memoria collettiva.\n“Voci 
 della terra” \nNel corso dell’evento verrà realizzata la raccolta vid
 eo “Voci della terra”\, una galleria di testimonianze e ricordi legati
  al cibo e alla vita rurale\, raccontati da cuochi\, anziani e giovani.\nL
 a “Festa del Gusto Calimera”\nLa manifestazione culminerà domenica 9 
 novembre con la “Festa del Gusto Calimera”\, che proporrà show cookin
 g\, premiazioni simboliche e presentazioni dei piatti preparati durante i 
 laboratori.\nUn momento di celebrazione collettiva\, dedicato a tutta la c
 ittadinanza.\nUn progetto di inclusione e valorizzazione territoriale\n“
 Sapori di ieri\, mani di domani” nasce con l’obiettivo di promuovere l
 a filiera corta\, educare al consumo consapevole e rendere accessibili le 
 eccellenze regionali anche nei contesti urbani più fragili. L’iniziativ
 a vuole promuovere il territorio\, ed è centrata su sostenibilità\, iden
 tità culturale e partecipazione.\nIn linea con la missione di H2O Eventi 
 – Associazione Culturale Sportiva Dilettantistica\, il progetto sottolin
 ea come una sana alimentazione non sia solo un patrimonio di tradizione e 
 gusto\, ma anche un pilastro fondamentale per il benessere fisico e la pra
 tica sportiva.\n\nMangiare bene significa vivere meglio: un principio che 
 unisce l’amore per il cibo genuino all’importanza dell’attività mot
 oria\, promuovendo uno stile di vita sano\, attivo e consapevole.
ATTACH;FMTTYPE=image/jpeg:https://lazioeventi.com/wp-content/uploads/2025/
 11/LOCANDINA-SAPORI-DI-IERI-MANI-DI-DOMANI-.jpg
CATEGORIES:Sagre, Gastronomia e Tradizioni nel Lazio
LOCATION:Roma\, Via Leopardi\, Roma\, Roma\, Lazio\, Italia
GEO:41.8942;12.5017
X-APPLE-STRUCTURED-LOCATION;VALUE=URI;X-ADDRESS=Via Leopardi\, Roma\, Roma\
 , Lazio\, Italia;X-APPLE-RADIUS=100;X-TITLE=Roma:geo:41.8942,12.5017
END:VEVENT
BEGIN:VTIMEZONE
TZID:Europe/Rome
X-LIC-LOCATION:Europe/Rome
BEGIN:STANDARD
DTSTART:20251026T020000
TZOFFSETFROM:+0200
TZOFFSETTO:+0100
TZNAME:CET
END:STANDARD
END:VTIMEZONE
END:VCALENDAR