BEGIN:VCALENDAR
VERSION:2.0
PRODID:-//wp-events-plugin.com//7.2.3.1//EN
TZID:Europe/Rome
X-WR-TIMEZONE:Europe/Rome
BEGIN:VEVENT
UID:27865@lazioeventi.com
DTSTART;TZID=Europe/Rome:20201009T210000
DTEND;TZID=Europe/Rome:20201009T223000
DTSTAMP:20201006T063735Z
URL:https://lazioeventi.com/eventi/sara-dominici-e-massimo-perciaccante-pi
 anoforte-a-4-mani
SUMMARY:Sara Dominici e Massimo Perciaccante\, pianoforte a 4 mani - Vellet
 ri - 9 Ottobre 20 21:00
DESCRIPTION:LE CLAVECIN BIEN TEMPÉRÉ transcrit à 4 mains LIVRE I è un p
 rogetto discografico che documenta il fine intervento di architettura musi
 cale effettuato sulla monumentale opera di J.S. Bach da uno tra i più val
 idi studiosi e didatti del contrappunto
ATTACH;FMTTYPE=image/jpeg:https://lazioeventi.com/wp-content/uploads/2020/
 10/4-mani.jpg
CATEGORIES:Musica, Spettacoli e Danza nel Lazio
LOCATION:Velletri\, Comune\, Velletri\, Roma\, Lazio\, Italia
GEO:41.6865;12.7776
X-APPLE-STRUCTURED-LOCATION;VALUE=URI;X-ADDRESS=Comune\, Velletri\, Roma\, 
 Lazio\, Italia;X-APPLE-RADIUS=100;X-TITLE=Velletri:geo:41.6865,12.7776
END:VEVENT
BEGIN:VTIMEZONE
TZID:Europe/Rome
X-LIC-LOCATION:Europe/Rome
BEGIN:DAYLIGHT
DTSTART:20200329T030000
TZOFFSETFROM:+0100
TZOFFSETTO:+0200
TZNAME:CEST
END:DAYLIGHT
END:VTIMEZONE
END:VCALENDAR