BEGIN:VCALENDAR
VERSION:2.0
PRODID:-//wp-events-plugin.com//7.2.3.1//EN
TZID:Europe/Rome
X-WR-TIMEZONE:Europe/Rome
BEGIN:VEVENT
UID:34054@lazioeventi.com
DTSTART;TZID=Europe/Rome:20230302T203000
DTEND;TZID=Europe/Rome:20230305T203000
DTSTAMP:20230209T150049Z
URL:https://lazioeventi.com/eventi/saverio-e-chadli-vs-mario-e-saleh
SUMMARY:Saverio e Chadli vs Mario e Saleh - Roma - 2 Marzo 23 20:30
DESCRIPTION:All’inizio c’erano Mario e Saleh\, un occidentale cristiano
  e un arabo musulmano che all’indomani di  un terremoto si ritrovano a c
 onvivere nella stessa tenda. Ma alla prima nazionale\, Chadli\, l’attore
   che interpreta Saleh\, esce dal personaggio e riscrive il finale. Rimang
 o sconcertato. Intuisco in quella ribellione una grande sofferenza. Vorrei
  accoglierla nello spettacolo. Le repliche continuano\, i mesi  passano\, 
 io e Chadli parliamo. Lui mi racconta di sé\, dell’Islam\, della sua vi
 ta in Italia da arabo di  seconda generazione. Spesso registriamo le nostr
 e chiacchierate. Poi faccio la cosa più semplice:  faccio un passo indiet
 ro\, metto Saverio e Chadli accanto a Mario e Saleh e lascio che siano lor
 o a  parlare… \n\nIronia della sorte\, al debutto milanese\, Chadli non 
 c’è per motivi giudiziari. A interpretare Saleh  chiamo Alex Cendron\, 
 biondo con gli occhi chiari. Una scelta poetica che mi permette di  sperim
 entare ulteriormente intorno all’individuo e alla sua identità. Mentre 
 Chadli Aloui rimane  presente nello spettacolo\, così come era previsto\,
  con la sua voce e la sua forte testimonianza. \n\nSAVERIO E CHADLI VS MAR
 IO E SALEH\nscritto e diretto da Saverio La Ruina \ncon Saverio La Ruina e
  Alex Cendron \ne con Chadli Aloui (voce off) \ncollaborazione alla regia 
 Cecilia Foti \nmusiche originali Gianfranco De Franco \nscene e costumi Me
 la Dell’Erba \ndisegno luci Michele Ambrose \naudio e luci Mario Giordan
 o \norganizzazione generale Settimio Pisano \namministrazione Tiziana Cove
 llo \nproduzione Scena Verticale \ncon il sostegno di MIBACT\, Regione Cal
 abria \nin collaborazione con TMO – Teatro Mediterraneo Occupato di Pale
 rmo \n\n\nTESSERA ASSOCIATIVA OBBLIGATORIA 5 €\n\nPer partecipare agli e
 venti artistici e alle attività culturali organizzate da Argot Studio è 
 necessario effettuare il tesseramento inserendo i dati personali richiesti
 .\n\nPer procedere alla compilazione del form clicca qui: bit.ly/Tesserame
 nto_ArgotStudio\n\nCOSTO BIGLIETTO\n10€\n\nORARIO SPETTACOLO\ngiov-sab 2
 0:30 – dom 17:30\n
ATTACH;FMTTYPE=image/jpeg:https://lazioeventi.com/wp-content/uploads/2023/
 02/Saverio-e-chadli.jpg
CATEGORIES:Musica, Spettacoli e Danza nel Lazio
LOCATION:Roma\, Via Leopardi\, Roma\, Roma\, Lazio\, Italia
GEO:41.8942;12.5017
X-APPLE-STRUCTURED-LOCATION;VALUE=URI;X-ADDRESS=Via Leopardi\, Roma\, Roma\
 , Lazio\, Italia;X-APPLE-RADIUS=100;X-TITLE=Roma:geo:41.8942,12.5017
END:VEVENT
BEGIN:VTIMEZONE
TZID:Europe/Rome
X-LIC-LOCATION:Europe/Rome
BEGIN:STANDARD
DTSTART:20221030T020000
TZOFFSETFROM:+0200
TZOFFSETTO:+0100
TZNAME:CET
END:STANDARD
END:VTIMEZONE
END:VCALENDAR