BEGIN:VCALENDAR
VERSION:2.0
PRODID:-//wp-events-plugin.com//7.2.3.1//EN
TZID:Europe/Rome
X-WR-TIMEZONE:Europe/Rome
BEGIN:VEVENT
UID:37474@lazioeventi.com
DTSTART;TZID=Europe/Rome;VALUE=DATE:20231123
DTEND;TZID=Europe/Rome;VALUE=DATE:20231125
DTSTAMP:20231020T080458Z
URL:https://lazioeventi.com/eventi/scena-pubblica-in-out-ultimo
SUMMARY:Scena Pubblica – IN/OUT - Roma - 23 Novembre 23 00:00
DESCRIPTION:Dal 14 ottobre al 24 novembre 2023 presso la Biblioteca Arcipel
 ago Auditorium e il Centro Sociale Anziani Casale Ceribelli\, torna “Sce
 na Pubblica – IN/OUT”\, la stagione culturale nel Municipio VIII di Ro
 ma a cura di TWAIN Centro Produzione Danza con la direzione artistica di L
 oredana Parrella: 28 appuntamenti ad ingresso gratuito tra performances ur
 bane\, spettacoli per tutte le età di teatro\, circo contemporaneo\, musi
 ca e danza\, incontri con gli artisti e laboratori per bambini. \n\nUn pro
 getto dedicato alla cittadinanza\, all’infanzia e alle famiglie\, ai pro
 fessionisti dello spettacolo e ai turisti\, che porta nel quartiere della 
 Montagnola una ricchissima proposta artistica.\n\nAl termine di ogni giorn
 ata di spettacolo si svolgerà un appuntamento dal titolo “Quattrochiacc
 hiere” in cui gli artisti incontreranno il pubblico per approfondire i t
 emi affrontati.\n\nScena Pubblica si propone come un’occasione di conviv
 ialità e condivisione\, di confronto con l’evento artistico e con gli a
 ltri spettatori. Scena Pubblica è un evento di riqualificazione e riutili
 zzo dei luoghi della quotidianità e degli spazi urbani che racconta il t
 erritorio che abita ai propri cittadini. Gli spettacoli programmati affron
 tano tematiche di inclusività e multiculturalità\, di rispetto del ruolo
  del cittadino all’interno della società\, per far sì che lo spettacol
 o dal vivo svolga anche una funzione educativa e di sviluppo di pensiero c
 ritico\, oltre che di intrattenimento.\n\nÈ possibile raggiungere i luogh
 i degli eventi a piedi\, in bicicletta\, con mezzi collettivi e mezzi pubb
 lici (linee Atac 160 669 670 671 716 C8\; metro B Stazione Marconi). Entra
 mbi i luoghi presentano zone di parcheggio nelle vicinanze e garantiscono 
 l’accesso a persone con disabilità o con ridotta mobilità.\n\nINGRESSO
  GRATUITO\n\nINFO E PRENOTAZIONI:\n(+39) 380 146 2962 (Whatsapp) | info@ci
 etwain.com | cietwain.com\nPrenotazione necessaria per “Il Mago di Oz”
  e “Ciclo di Fiabe”\n\nBIBLIOTECA ARCIPELAGO AUDITORIUM - Via Benedett
 o Croce\, 50\, 00142 Roma RM\nCENTRO SOCIALE ANZIANI CASALE CERIBELLI - Vi
 ale Pico della Mirandola\, 36\, 00142 Roma RM\n\nPROGRAMMA: \n\n23 novemb
 re\nh 17 | Biblioteca Arcipelago Auditorium\nCiclo di fiabe\na cura di Nog
 u Teatro \nLetture animate con laboratorio - dai 4 anni\nIL GATTO CON GLI 
 STIVALI\nVersione dei Fratelli Grimm\nLettura drammatizzata attraverso vid
 eo e proiezioni\nCon Agnese Lorenzini\, Ilaria Manocchio e Fabio Versaci\n
 Bisogna impegnarsi e ingegnarsi per ottenere la fortuna che si desidera\, 
 anche se all’inizio tutto sembra impossibile. E occhio a sottovalutare l
 e apparenze\, perché un semplice gatto può rivelarsi un amico fidato e a
 stuto e dare aiuto prezioso. Come una semplice azione può rivelarsi fonda
 mentale al nostro racconto! I bambini\, esplorando le emozioni dei persona
 ggi nelle varie peripezie che si trovano ad affrontare\, vengono filmati e
  diventano i protagonisti del piccolo cortometraggio che accompagna la let
 tura. \nPrenotazione necessaria\n\n24 novembre\nh 19 | Biblioteca Arcipela
 go Auditorium\nAnonima Teatri \nMemorie di un Ciabattino\nteatro\nDi Alek
 sandros Memetaj e Yoris Petrillo\nCon Valerio Riondino\nProduzione Ano
 nima Teatri / Twain Centro Produzione Danza\nIn residenza presso Teatro I
 l Rivellino\, Spazio Fani\, Supercinema – Tuscania\nCon il contribut
 o di MiC – Ministero della Cultura\, Regione Lazio\, Fondazione Carivit
 \, Comune di Tuscania\nFinalista POLLINEfest 2022\nRoma 49 a.C.\nCesare pa
 ssa il Rubicone\, deciso ad entrare a Roma con l’esercito. I senatori sc
 appano dalla capitale\, tra questi vi è Catone l’Uticense che si rifugi
 a prima in Sicilia e poi in Numidia (attuale Africa Nord-Ovest). Assieme a
 l politico stoico scappa con lui anche Donato\, abile ciabattino e servo f
 idato di Catone\, costretto a lasciare a Roma il figlio di 7 anni\, Giulio
 .\nRoma 44 a.C.\nLa capitale è in subbuglio. Bruto e Cassio stanno organi
 zzando la congiura ai danni di Cesare\, il quale ha appena rifiutato per l
 a terza volta la corona offertagli dal generale Antonio. Giulio è cresciu
 to\, come servo nella famiglia di Bruto (nipote adottivo di Catone)\, gli 
 è stata data un’istruzione pari a quella degli uomini liberi\, e ora so
 gna di entrare nell’esercito e combattere accanto a Cesare\, diventare i
 l suo braccio destro e seguirlo in giro per il mondo. Ma Giulio non è por
 tato per fare la guerra\, è piccolo di statura\, debole e la vista del sa
 ngue lo fa star male. Giulio passa quindi le sue giornate tra la scuola e 
 il vecchio “laboratorio” del padre assieme al suo amico- cane Luppolo\
 , in attesa che Bruto gli conceda la libertà. È proprio dentro il vecchi
 o “laboratorio” che passato e presente iniziano a chiamarsi\, creando 
 un filo che attraversa i campi di battaglia\, gli intrecci politici\, gli 
 ideali degli uomini che guidavano la società dell’epoca\, che lega le s
 peranze di un padre e i sogni di un figlio. \nMemorie di un ciabattino pa
 rla del legame inestirpabile che c’è tra un padre e un figlio\, di quan
 to gli insegnamenti e l’amore di un genitore possano oltrepassare i limi
 ti fisici dello spazio e del tempo.\nQuattrochiacchiere: incontro con gli 
 artisti e il pubblico al termine dello spettacolo
ATTACH;FMTTYPE=image/jpeg:https://lazioeventi.com/wp-content/uploads/2023/
 10/Locandina-web-Scena-Pubblica.jpg
CATEGORIES:Musica, Spettacoli e Danza nel Lazio
LOCATION:Roma\, Via Leopardi\, Roma\, Roma\, Lazio\, Italia
GEO:41.8942;12.5017
X-APPLE-STRUCTURED-LOCATION;VALUE=URI;X-ADDRESS=Via Leopardi\, Roma\, Roma\
 , Lazio\, Italia;X-APPLE-RADIUS=100;X-TITLE=Roma:geo:41.8942,12.5017
END:VEVENT
BEGIN:VTIMEZONE
TZID:Europe/Rome
X-LIC-LOCATION:Europe/Rome
BEGIN:STANDARD
DTSTART:20231029T020000
TZOFFSETFROM:+0200
TZOFFSETTO:+0100
TZNAME:CET
END:STANDARD
END:VTIMEZONE
END:VCALENDAR