BEGIN:VCALENDAR
VERSION:2.0
PRODID:-//wp-events-plugin.com//7.2.3.1//EN
TZID:Europe/Rome
X-WR-TIMEZONE:Europe/Rome
BEGIN:VEVENT
UID:30975@lazioeventi.com
DTSTART;TZID=Europe/Rome:20220522T160000
DTEND;TZID=Europe/Rome:20220522T190000
DTSTAMP:20220518T061849Z
URL:https://lazioeventi.com/eventi/scenari-tipici-della-vecchia-roma-e-tes
 ori-nascosti
SUMMARY:Scenari tipici della vecchia Roma e tesori nascosti - Roma - 22 Mag
 gio 22 16:00
DESCRIPTION:Un itinerario insolito ma in luoghi conosciuti\, alla ricerca d
 i piccole “chicche” di testimonianze o di costruzioni storiche meno vi
 sitate\, fuori dai soliti circuiti. Una passeggiata che partirà dal monum
 ento che rappresenta la nostra identità nazionale\, attraversando un quar
 tiere teatro di efferati crimini fino ad arrivare ad una delle più belle 
 piazze di Roma\, per poi proseguire ed ammirare capolavori artistici di gr
 ande pregio. Ma anche la scoperta di botteghe e di piccoli locali per fare
  acquisti o gustare finger food e altre specialità.\n\nTi abbiamo incurio
 sito abbastanza? Vieni con la nostra Teresa e lasciati guidare e raccontar
 e una Roma “diversa” anche se conosciuta.\n\nAPPUNTAMENTO: Piazza Vene
 zia appuntamento angolo con Via del Plebiscito\n\nDURATA : 3 ore\n\nCOSTO:
   15€ intero 10€ ridotto 8/16 anni + 2€ auricolari\n\nPRENOTAZIONI 
 e informazioni  Chiamare o WA 349.502.77.82  oppure mail: norziaets@libe
 ro.it indicando nome cognome numero partecipanti e un recapito telefonico
ATTACH;FMTTYPE=image/jpeg:https://lazioeventi.com/wp-content/uploads/2022/
 05/22_5RomaInsolita.jpg
CATEGORIES:Arte e Cultura nel Lazio
LOCATION:Roma\, Via Leopardi\, Roma\, Roma\, Lazio\, Italia
GEO:41.8942;12.5017
X-APPLE-STRUCTURED-LOCATION;VALUE=URI;X-ADDRESS=Via Leopardi\, Roma\, Roma\
 , Lazio\, Italia;X-APPLE-RADIUS=100;X-TITLE=Roma:geo:41.8942,12.5017
END:VEVENT
BEGIN:VTIMEZONE
TZID:Europe/Rome
X-LIC-LOCATION:Europe/Rome
BEGIN:DAYLIGHT
DTSTART:20220327T030000
TZOFFSETFROM:+0100
TZOFFSETTO:+0200
TZNAME:CEST
END:DAYLIGHT
END:VTIMEZONE
END:VCALENDAR