BEGIN:VCALENDAR
VERSION:2.0
PRODID:-//wp-events-plugin.com//7.2.3.1//EN
TZID:Europe/Rome
X-WR-TIMEZONE:Europe/Rome
BEGIN:VEVENT
UID:36733@lazioeventi.com
DTSTART;TZID=Europe/Rome:20230818T173000
DTEND;TZID=Europe/Rome:20230819T190000
DTSTAMP:20230817T192039Z
URL:https://lazioeventi.com/eventi/secolo-di-donna-olimpia
SUMMARY:Secolo di Donna Olimpia - Viterbo - 18 Agosto 23 17:30
DESCRIPTION:Tra nuove mode femminili e disinfezioni dal morbo della peste \
 n\nA San Martino al Cimino continua con successo Donna Olimpia e le sue ge
 nti\, rassegna di eventi estivi  patrocinati dalla Fondazione Carivit\, in
 centrati sulla figura della nobildonna e sulla storia del bellissimo borgo
  da lei concepito. \n\nVenerdì 18 agosto alle 17:30 la storica del costum
 e Elisabetta Gnignera terrà la conferenza Piacevol viso\, abito onesto. L
 e mode femminili in Europa nel secolo di Olimpia. Un panorama sull'abbigli
 amento del Seicento\, secolo di internazionalismi\, e pertanto di evoluzio
 ni estetiche\, che hanno interessato tanto i costumi  maschili\, quanto qu
 elli femminili. Donna Olimpia stessa\, con il suo iconico copricapo di mat
 rice francese\, è stata austera testimone di questa articolata metamorfos
 i\, che la relatrice illustrerà con l’ausilio di immagini del tempo.\n\
 nSabato 19 agosto alle 17:30 l'architetto Renzo Chiovelli  presenterà  Ol
 impia\, la peste e la posta\, un'originale quanto interessante conferenza 
 sui metodi di disinfezione delle lettere da quel morbo che il 26 settembre
  1657 fu fatale a Donna Olimpia Maidalchini. La peste da secoli riusciva a
  viaggiare velocemente da un luogo a l’altro tanto che anche le missive 
 furono ben presto considerate tra i maggiori vettori della propagazione de
 l morbo. Pertanto\, a partire dalla fine del XVI secolo\, anche la disinfe
 zione delle lettere divenne  una prassi comune\, ai varchi di confine di 
 vari Stati\, per cercare di non fare entrare il morbo nei propri territori
 . I metodi adottati\, sia fisici che chimici\,  oggi potrebbero incuriosi
 rci molto\, e farci un po’ sorridere. Tuttavia\, si è dovuto attendere 
 fino al 1870 per scoprire che la ‘fumigazione’\, la ‘profumazione’
 \, lo spurgo nell’aceto\, le essenze aromatiche bruciate e gli altri esp
 edienti che venivano impiegati sino ad allora\, non avevano in realtà alc
 un effetto sul controllo dell’epidemia. Durante l'incontro verranno anch
 e mostrate delle preziose lettere dell’epoca\, sottoposte a disinfezione
 .\n\nLe conferenze si terranno presso la biblioteca dell'Abbazia Cistercen
 se di San Martino al Cimino\, piazza Nazionale. \n\nSi consiglia la prenot
 azione scrivendo a info@ithuco.com o contattando via whatsapp 339/3412598.
ATTACH;FMTTYPE=image/jpeg:https://lazioeventi.com/wp-content/uploads/2023/
 08/Biblioteca-Abbazia-Cistercense-di-San-Martino-al-Cimino.jpeg
CATEGORIES:Arte e Cultura nel Lazio
LOCATION:Viterbo\, Comune\, Viterbo\, Viterbo\, Lazio\, Italia
GEO:42.417;12.1051
X-APPLE-STRUCTURED-LOCATION;VALUE=URI;X-ADDRESS=Comune\, Viterbo\, Viterbo\
 , Lazio\, Italia;X-APPLE-RADIUS=100;X-TITLE=Viterbo:geo:42.417,12.1051
END:VEVENT
BEGIN:VTIMEZONE
TZID:Europe/Rome
X-LIC-LOCATION:Europe/Rome
BEGIN:DAYLIGHT
DTSTART:20230326T030000
TZOFFSETFROM:+0100
TZOFFSETTO:+0200
TZNAME:CEST
END:DAYLIGHT
END:VTIMEZONE
END:VCALENDAR