BEGIN:VCALENDAR
VERSION:2.0
PRODID:-//wp-events-plugin.com//7.2.3.1//EN
TZID:Europe/Rome
X-WR-TIMEZONE:Europe/Rome
BEGIN:VEVENT
UID:28080@lazioeventi.com
DTSTART;TZID=Europe/Rome;VALUE=DATE:20201028
DTEND;TZID=Europe/Rome;VALUE=DATE:20210125
DTSTAMP:20201126T075318Z
URL:https://lazioeventi.com/eventi/sei-un-produttore-di-olio-doliva-partec
 ipa-al-2-concorso-oro-verde
SUMMARY:Sei un produttore di olio d’oliva? Partecipa al 2° concorso “O
 ro Verde” - Artena - 28 Ottobre 20 00:00
DESCRIPTION:Sono aperte le iscrizioni al secondo concorso “Oro Verde” d
 edicato ai produttori di olio extravergine di oliva. Il concorso è organi
 zzato dall’Associazione Ferao in collaborazione con l’Associazione Cap
 ol Latina. Sui campioni di olio che sar
ATTACH;FMTTYPE=image/jpeg:https://lazioeventi.com/wp-content/uploads/2020/
 11/olive-oil-968657_1920-1536x1024-1.jpg
CATEGORIES:Varie
LOCATION:Artena\, Comune\, Artena\, Roma\, Lazio\, Italia
GEO:41.7397;12.9164
X-APPLE-STRUCTURED-LOCATION;VALUE=URI;X-ADDRESS=Comune\, Artena\, Roma\, La
 zio\, Italia;X-APPLE-RADIUS=100;X-TITLE=Artena:geo:41.7397,12.9164
END:VEVENT
BEGIN:VTIMEZONE
TZID:Europe/Rome
X-LIC-LOCATION:Europe/Rome
BEGIN:STANDARD
DTSTART:20201025T020000
TZOFFSETFROM:+0200
TZOFFSETTO:+0100
TZNAME:CET
END:STANDARD
END:VTIMEZONE
END:VCALENDAR