BEGIN:VCALENDAR
VERSION:2.0
PRODID:-//wp-events-plugin.com//7.2.3.1//EN
TZID:Europe/Rome
X-WR-TIMEZONE:Europe/Rome
BEGIN:VEVENT
UID:30934@lazioeventi.com
DTSTART;TZID=Europe/Rome:20220528T220000
DTEND;TZID=Europe/Rome:20220528T234500
DTSTAMP:20220512T095911Z
URL:https://lazioeventi.com/eventi/serata-astronomica
SUMMARY:Serata Astronomica - Rieti - 28 Maggio 22 22:00
DESCRIPTION:Curiosi di scoprire il cielo?\n\nSabato 28 maggio alle ore 22 s
 arà possibile farlo a Rieti presso Hortus Simplicium!\n\nLa serata astron
 omica sarà un’occasione affascinante per osservare il cielo sotto la gu
 ida di esperti e con l’utilizzo di telescopi.\nCome partecipare? Facile\
 , basta iscriversi su Eventbrite al seguente link: https://bit.ly/3N6DVf8\
 n\nRieti\, via dell'Episcopio 2\n\nA cura di Giulia Botticelli\, Mario Sil
 vestri e Leonardo Marini\n\nL'evento gratuito\, realizzato il collaborazio
 ne con "La Valle del Primo Presepe" si inserisce nel programma del 17° Fe
 stival della Comunicazione delle Paoline e dei Paolini quest'anno organizz
 ato dalla Diocesi di Rieti.
ATTACH;FMTTYPE=image/jpeg:https://lazioeventi.com/wp-content/uploads/2022/
 05/serata-astronomica.jpg
CATEGORIES:Varie
LOCATION:Rieti\, Comune di Rieti\, Rieti\, Rieti\, Lazio\, Italia
GEO:42.403;12.8609
X-APPLE-STRUCTURED-LOCATION;VALUE=URI;X-ADDRESS=Comune di Rieti\, Rieti\, R
 ieti\, Lazio\, Italia;X-APPLE-RADIUS=100;X-TITLE=Rieti:geo:42.403,12.8609
END:VEVENT
BEGIN:VTIMEZONE
TZID:Europe/Rome
X-LIC-LOCATION:Europe/Rome
BEGIN:DAYLIGHT
DTSTART:20220327T030000
TZOFFSETFROM:+0100
TZOFFSETTO:+0200
TZNAME:CEST
END:DAYLIGHT
END:VTIMEZONE
END:VCALENDAR