BEGIN:VCALENDAR
VERSION:2.0
PRODID:-//wp-events-plugin.com//7.2.3.1//EN
TZID:Europe/Rome
X-WR-TIMEZONE:Europe/Rome
BEGIN:VEVENT
UID:32420@lazioeventi.com
DTSTART;TZID=Europe/Rome:20220923T210000
DTEND;TZID=Europe/Rome:20220923T230000
DTSTAMP:20220922T052215Z
URL:https://lazioeventi.com/eventi/serata-in-onore-di-francisco-ramon-lamp
 a
SUMMARY:Serata in onore di Francisco Ramon Lampa - Ronciglione - 23 Settemb
 re 22 21:00
DESCRIPTION:Nuova data per la serata in onore di Francisco Ramon Lampa\, or
 ganizzata dalla cooperativa Radici.\n\nLo spettacolo\, inizialmente previs
 to per venerdì 16 si terrà\, invece\, venerdi 23 settembre alle 21\, al 
 teatro Ettore Petrolini di Ronciglione .\n\nA poco più di un anno dalla s
 comparsa\, avvenuta il 30 agosto 2021\, un evento speciale sarà dedicato 
 alla memoria del presentatore e  speaker radiofonico che\, per oltre quara
 nt'anni\, ha calcato i palcoscenici delle manifestazioni più importanti d
 i Ronciglione e della Tuscia.\nIl grande artista ha lasciato un vuoto impo
 rtante in tutte le persone che lo hanno conosciuto e che\, proprio per que
 sto\, hanno voluto fortemente omaggiare l’amico\, prima che l’artista.
 \n\nNel corso dell’appuntamento si alterneranno musicisti e ballerini ch
 e nel corso di una lunga carriera di successi hanno affiancato il presenta
 tore. Non mancheranno ricordi\, video e messaggi di colleghi e amici. \nTr
 a gli artisti che si esibiranno: Renato Lombroni\, Leonardo Modanesi\, Man
 uela De Santis \, Gloria Ercoli \, Marika Paparoni\, Melissa Piombi\, Eman
 uele Capeccia\, Filippo Chiodi\, Laura Polvara e Federico Tanturli\,  Dari
 a Giomma con le ballerine della scuola di danza\, Cristian Iezzi e Sarah d
 elle Monache della scuola di Danza Le  Cartiere.\n\nDurante lo spettacolo\
 , inoltre\, il maestro Stefano Cianti darà vita a perfomance live estempo
 ranee.\nL'evento\, organizzato in collaborazione con il Comune di Roncigli
 one\, l'associazione Pro Loco di Ronciglione\, la Banca Lazio Nord e l'ass
 ociazione culturale Mariangela Virgili sarà presentato da Francesco Laure
 nti\, presentatore e speaker radiofonico\, caro amico di Francisco. 
ATTACH;FMTTYPE=image/jpeg:https://lazioeventi.com/wp-content/uploads/2022/
 09/lampa2.jpg
CATEGORIES:Arte e Cultura nel Lazio,Musica, Spettacoli e Danza nel Lazio
LOCATION:Ronciglione\, Comune di Ronciglione\, Ronciglione\, Viterbo\, Lazi
 o\, Italia
GEO:42.2913;12.2169
X-APPLE-STRUCTURED-LOCATION;VALUE=URI;X-ADDRESS=Comune di Ronciglione\, Ron
 ciglione\, Viterbo\, Lazio\, Italia;X-APPLE-RADIUS=100;X-TITLE=Ronciglione
 :geo:42.2913,12.2169
END:VEVENT
BEGIN:VTIMEZONE
TZID:Europe/Rome
X-LIC-LOCATION:Europe/Rome
BEGIN:DAYLIGHT
DTSTART:20220327T030000
TZOFFSETFROM:+0100
TZOFFSETTO:+0200
TZNAME:CEST
END:DAYLIGHT
END:VTIMEZONE
END:VCALENDAR