BEGIN:VCALENDAR
VERSION:2.0
PRODID:-//wp-events-plugin.com//7.2.3.1//EN
TZID:Europe/Rome
X-WR-TIMEZONE:Europe/Rome
BEGIN:VEVENT
UID:36859@lazioeventi.com
DTSTART;TZID=Europe/Rome:20230902T200000
DTEND;TZID=Europe/Rome:20230902T234500
DTSTAMP:20230830T141543Z
URL:https://lazioeventi.com/eventi/serata-romana
SUMMARY:Serata Romana - Nazzano - 2 Settembre 23 20:00
DESCRIPTION:Unisciti a noi sabato 2 settembre dalle ore 20 in Piazza della 
 Rocca per un'indimenticabile serata all'aperto che celebra la magica fusio
 ne tra la musica e la cucina romana! L'evento è organizzato con amore dal
 la Pro Loco e promette un'esperienza indimenticabile\n\nPROGRAMMA \n\nLa "
 Serata Romana" è un evento imperdibile a settembre\, un rituale annuale d
 i festa e tradizione. Anche quest'anno\, la Pro Loco ha preparato un progr
 amma eccezionale che celebra la musica e le delizie culinarie di Roma.\n\n
 A partire dalle ore 20\, lo stand gastronomico aprirà le sue porte\, offr
 endo una selezione irresistibile di piatti tipici romani: fagioli con le c
 otiche\, trippa alla romana\, filetti di baccalà\, coratella\, pasta e fa
 gioli e molte altre prelibatezze che faranno venire l'acquolina in bocca.\
 n\nL'intrattenimento inizierà alle ore 21\, quando la musica romana prend
 erà vita con performance coinvolgenti e appassionanti che trasporteranno 
 il pubblico in un viaggio attraverso le melodie e le canzoni intramontabil
 i della città eterna.\n\nUnisciti a noi per questa serata indimenticabile
 \, immergiti nella cultura romana attraverso i tuoi sensi e fatti trasport
 are dalla magia della musica e del cibo di Roma. \n\nTi aspettiamo numeros
 i per condividere questa esperienza unica!
ATTACH;FMTTYPE=image/jpeg:https://lazioeventi.com/wp-content/uploads/2023/
 08/Locandina-.jpg
CATEGORIES:Sagre, Gastronomia e Tradizioni nel Lazio
LOCATION:Nazzano\, Comune\, Nazzano\, Roma\, Lazio\, Italia
GEO:42.2298563;12.596061700000064
X-APPLE-STRUCTURED-LOCATION;VALUE=URI;X-ADDRESS=Comune\, Nazzano\, Roma\, L
 azio\, Italia;X-APPLE-RADIUS=100;X-TITLE=Nazzano:geo:42.2298563,12.5960617
 00000064
END:VEVENT
BEGIN:VTIMEZONE
TZID:Europe/Rome
X-LIC-LOCATION:Europe/Rome
BEGIN:DAYLIGHT
DTSTART:20230326T030000
TZOFFSETFROM:+0100
TZOFFSETTO:+0200
TZNAME:CEST
END:DAYLIGHT
END:VTIMEZONE
END:VCALENDAR