BEGIN:VCALENDAR
VERSION:2.0
PRODID:-//wp-events-plugin.com//7.2.3.1//EN
TZID:Europe/Rome
X-WR-TIMEZONE:Europe/Rome
BEGIN:VEVENT
UID:39671@lazioeventi.com
DTSTART;TZID=Europe/Rome:20240824T213000
DTEND;TZID=Europe/Rome:20240824T233000
DTSTAMP:20240723T140054Z
URL:https://lazioeventi.com/eventi/sere-destate-2024-08-24
SUMMARY:Sere d'Estate - Albano Laziale - 24 Agosto 24 21:30
DESCRIPTION:Dal 6 luglio al 31 agosto \nViale scalchi - Piazza Sabatini nel
 la piazza retrostante il Museo Civico Mario saranno presenti stand di stre
 et food e mercatini dell'artigianato.\n\nProgramma:\n\n27 luglio\nCena Bia
 nca sotto le Stelle accompagnata da Musica Lounge\n\n3  agosto ore 21.30\n
 Claudio Sciara Live Show\n\n10 agosto ore 21.30\nBalera a cura di "Infinit
 e Note" (Area Family)\nDJ Set (Area Young)\n\n17 agosto ore 21.30\nKaraoke
  (Area Family)\nDJ Set (Area Young)\n\n24 agosto - Tra Musica e Magia\nDal
 le 21 alle 22 Spettacolo di Magia\nDalle 22 Live Acustico di Simone Barott
 i\nDJ Set (Area Young)\n\n31 agosto ore 21.30\nSerata Latino America\nDJ S
 et (Area Young)
ATTACH;FMTTYPE=image/jpeg:https://lazioeventi.com/wp-content/uploads/2024/
 07/Simone-Barotti.jpg
CATEGORIES:Musica, Spettacoli e Danza nel Lazio
LOCATION:Albano Laziale\, Comune\, Albano Laziale\, Roma\, Lazio\, Italia
GEO:41.7293;12.6588
X-APPLE-STRUCTURED-LOCATION;VALUE=URI;X-ADDRESS=Comune\, Albano Laziale\, R
 oma\, Lazio\, Italia;X-APPLE-RADIUS=100;X-TITLE=Albano Laziale:geo:41.7293
 ,12.6588
END:VEVENT
BEGIN:VTIMEZONE
TZID:Europe/Rome
X-LIC-LOCATION:Europe/Rome
BEGIN:DAYLIGHT
DTSTART:20240331T030000
TZOFFSETFROM:+0100
TZOFFSETTO:+0200
TZNAME:CEST
END:DAYLIGHT
END:VTIMEZONE
END:VCALENDAR