BEGIN:VCALENDAR
VERSION:2.0
PRODID:-//wp-events-plugin.com//7.2.3.1//EN
TZID:Europe/Rome
X-WR-TIMEZONE:Europe/Rome
BEGIN:VEVENT
UID:39895@lazioeventi.com
DTSTART;TZID=Europe/Rome:20240928T210000
DTEND;TZID=Europe/Rome:20240928T230000
DTSTAMP:20240919T122040Z
URL:https://lazioeventi.com/eventi/serena-dandini-allostia-antica-festival
SUMMARY:Serena Dandini all'Ostia Antica Festival - Roma - 28 Settembre 24 2
 1:00
DESCRIPTION:Ostia Antica Festival\, gran finale con  Serena Dandini\n\nSere
 na Dandini sale sul palco sabato 28 settembre con il suo “Vieni avanti c
 retina. Next!”\, produzione firmata da Teatro Carcano in collaborazione 
 con Mismaonda. Lo spettacolo – dal titolo un po’ audace ma in linea co
 n i tempi in cui l’emancipazione femminile sembra essere ancora lontana 
 – omaggia la “cretineria” al femminile nella comicità\, anche quest
 o un campo da sempre appannaggio degli uomini.\n\nCon questo format teatra
 le la Dandini altro non fa che dire basta alla sindrome di Ginger Rogers c
 he deve fare tutto quello che fa Fred Astaire\, ma sui tacchi e camminando
  all’indietro. Per secoli – dice lei - ci hanno dato delle cretine e f
 inalmente possiamo deliberatamente definirci tali da sole in una serata di
  comicità interamente al femminile che trae ispirazione per il titolo dal
 la battuta del varietà ‘Vieni avanti\, cretino!’\, resa famosa dai Fr
 atelli De Rege. È un gioco\, una provocazione… perché ricordatevi diet
 ro a una grande cretina spesso si nasconde una donna troppo intelligente
 ”.\n\nAd affiancarla sul palco del Teatro Romano ecco Federica Cacciola\
 , Cristina Chinaglia\, Marianna Folli\, Laura Formenti\, Annagaia Marchior
 o\, Germana Pasquero\, Gioia Salvatori e Le Hostress. 
ATTACH;FMTTYPE=image/jpeg:https://lazioeventi.com/wp-content/uploads/2024/
 09/cover-dandin-1024x576-1.jpg
CATEGORIES:Musica, Spettacoli e Danza nel Lazio
LOCATION:Roma\, Via Leopardi\, Roma\, Roma\, Lazio\, Italia
GEO:41.8942;12.5017
X-APPLE-STRUCTURED-LOCATION;VALUE=URI;X-ADDRESS=Via Leopardi\, Roma\, Roma\
 , Lazio\, Italia;X-APPLE-RADIUS=100;X-TITLE=Roma:geo:41.8942,12.5017
END:VEVENT
BEGIN:VTIMEZONE
TZID:Europe/Rome
X-LIC-LOCATION:Europe/Rome
BEGIN:DAYLIGHT
DTSTART:20240331T030000
TZOFFSETFROM:+0100
TZOFFSETTO:+0200
TZNAME:CEST
END:DAYLIGHT
END:VTIMEZONE
END:VCALENDAR