BEGIN:VCALENDAR
VERSION:2.0
PRODID:-//wp-events-plugin.com//7.2.3.1//EN
TZID:Europe/Rome
X-WR-TIMEZONE:Europe/Rome
BEGIN:VEVENT
UID:30510@lazioeventi.com
DTSTART;TZID=Europe/Rome;VALUE=DATE:20220430
DTEND;TZID=Europe/Rome;VALUE=DATE:20220501
DTSTAMP:20220414T075852Z
URL:https://lazioeventi.com/eventi/sermoneta-in-sketch
SUMMARY:Sermoneta in Sketch - Sermoneta - 30 Aprile 22 00:00
DESCRIPTION:Taccuini e Castelli\n\nSeconda edizione: Raduno Nazionale di Ur
 ban sketch\n\nPer tutti i cacciatori di bellezza\, armati di matite e penn
 elli\, l’appuntamento è per il 30 aprile a Sermoneta con la 2° edizion
 e di taccuini e castelli organizzato da Sintagma e Comune di Sermoneta.\n\
 nEsposizione opere anche domenica 1 Maggio (Piazzale Belvedere).\n\nPartec
 ipazione libera e gratuita per qualsiasi livello di esperienza e formazion
 e.\n\nÈ gradita la prenotazione su info@sintagma.site
ATTACH;FMTTYPE=image/jpeg:https://lazioeventi.com/wp-content/uploads/2022/
 04/taccuini-e-castelli.jpeg
CATEGORIES:Varie
LOCATION:Sermoneta\, Comune\, Sermoneta\, Latina\, Lazio\, Italia
GEO:41.5491;12.9853
X-APPLE-STRUCTURED-LOCATION;VALUE=URI;X-ADDRESS=Comune\, Sermoneta\, Latina
 \, Lazio\, Italia;X-APPLE-RADIUS=100;X-TITLE=Sermoneta:geo:41.5491,12.9853
END:VEVENT
BEGIN:VTIMEZONE
TZID:Europe/Rome
X-LIC-LOCATION:Europe/Rome
BEGIN:DAYLIGHT
DTSTART:20220327T030000
TZOFFSETFROM:+0100
TZOFFSETTO:+0200
TZNAME:CEST
END:DAYLIGHT
END:VTIMEZONE
END:VCALENDAR