BEGIN:VCALENDAR
VERSION:2.0
PRODID:-//wp-events-plugin.com//7.2.3.1//EN
TZID:Europe/Rome
X-WR-TIMEZONE:Europe/Rome
BEGIN:VEVENT
UID:31113@lazioeventi.com
DTSTART;TZID=Europe/Rome:20250531T180000
DTEND;TZID=Europe/Rome:20250828T234500
DTSTAMP:20250528T054416Z
URL:https://lazioeventi.com/eventi/sessantotto-village
SUMMARY:Sessantotto Village - Roma - 31 Maggio 25 18:00
DESCRIPTION:Appuntamenti da non perdere per chi vuole ridere\, riflettere e
  passare in compagnia le serate di questa stagione!\n\nMusica\, Spettacoli
  comici\, Concerti\, Coverband\, Artisti emergenti...\n\nIl Sessantotto Vi
 llage non è solo musica:\n- Street food e beverage\n- Area sportiva e gio
 chi\n- Spazi per dibattiti\, talk e laboratori\n- Atmosfera conviviale per
  tutte le età\nE quest’anno una grande novità: dal 9 giugno una sorpre
 sa esclusiva\, ancora top secret\, sarà svelata nei prossimi video uffici
 ali del festival.\n\nFino al 28 agosto\, tre mesi di eventi completamente 
 gratuiti.\n\nIl villaggio aprirà tutti i giorni dalle ore 18:00: troveret
 e un’attrezzatissima area ristoro\, dove godere di una fantastica selezi
 one di bevande e piatti per accompagnare i pomeriggi e le serate di questa
  estate.\n\nVi aspettiamo!\n\necco il fantastico programma di Giugno\n\nPr
 ogramma concerti di GIUGNO 2025\nEcco alcune delle serate imperdibili in c
 alendario:\n\n1 giugno: Franco Califano Tribute\n2 giugno: The Apple Pies 
 (The Beatles Tribute)\n4 giugno: Lucio Battisti Tribute\n5 giugno: Pino Da
 niele Tribute\n6 giugno: Queen Tribute Band\n8 giugno: Lucio Dalla Tribute
 \n11 giugno: Fabrizio De André Tribute\n12 giugno: Depeche Mode Tribute\n
 13 giugno: Rolling Stones Tribute\n14 giugno: Chic Tribute Band\n15 giugno
 : Cristina D’Avena (live alle 20:30)\n18 giugno: Pino Mango Tribute\n20 
 giugno: Santana Tribute Band\n21 giugno: OttoZero Dance Music\n22 giugno: 
 Riccardo Cocciante Tribute (ore 20:30)\n25 giugno: George Michael Tribute\
 n27 giugno: Caparezza Tribute Band\n28 giugno: I Figli delle Stelle\n29 gi
 ugno: Cartoon Rock Band (alle 20:30)\nDai tributi ai grandi della musica i
 taliana e internazionale\, alla dance anni ‘80 e ’90\, passando per se
 rate pop\, rock e revival: ce n’è davvero per tutti i gusti!\n\nIngress
 o gratuito\n\nPreparati a vivere un’estate indimenticabile\, tra musica\
 , emozioni e sorprese sotto le stelle di Roma!\nCi vediamo al Parco Talent
 i!
ATTACH;FMTTYPE=image/jpeg:https://lazioeventi.com/wp-content/uploads/2022/
 05/68village.jpg
CATEGORIES:Musica, Spettacoli e Danza nel Lazio
LOCATION:Roma\, Via Leopardi\, Roma\, Roma\, Lazio\, Italia
GEO:41.8942;12.5017
X-APPLE-STRUCTURED-LOCATION;VALUE=URI;X-ADDRESS=Via Leopardi\, Roma\, Roma\
 , Lazio\, Italia;X-APPLE-RADIUS=100;X-TITLE=Roma:geo:41.8942,12.5017
END:VEVENT
BEGIN:VTIMEZONE
TZID:Europe/Rome
X-LIC-LOCATION:Europe/Rome
BEGIN:DAYLIGHT
DTSTART:20250330T030000
TZOFFSETFROM:+0100
TZOFFSETTO:+0200
TZNAME:CEST
END:DAYLIGHT
END:VTIMEZONE
END:VCALENDAR