BEGIN:VCALENDAR
VERSION:2.0
PRODID:-//wp-events-plugin.com//7.2.3.1//EN
TZID:Europe/Rome
X-WR-TIMEZONE:Europe/Rome
BEGIN:VEVENT
UID:40871@lazioeventi.com
DTSTART;TZID=Europe/Rome:20250309T180000
DTEND;TZID=Europe/Rome:20250309T200000
DTSTAMP:20250303T104147Z
URL:https://lazioeventi.com/eventi/sesso-amore-e-fantasia
SUMMARY:Sesso amore e fantasia - Veroli - 9 Marzo 25 18:00
DESCRIPTION:In occasione del periodo della Festa della Donna\, domenica 9 m
 arzo al Teatro Comunale Veroli\, la Compagnia Manhattan porta in scena uno
  spettacolo coinvolgente dedicato all’universo femminile alternando toni
  comici a toni più seri\, offrendo molteplici spunti di riflessione.\n\nL
 a rappresentazione\, infatti\, comincia con un divertente prologo dove gli
  attori\, in modo comico\, parlano delle virtù e della vita massacrante d
 ella donna di oggi\, ormai spezzettata in molte vite\, alla ricerca affann
 osa di perfezione nelle sue molteplici attività.\n\nDopo il prologo\, per
 ò\, la scena cambia e gli spettatori assisteranno ad un atto unico teso e
  pieno di suspense dove gli attori\, Tommaso Barbato e Francesca Romana Ce
 rri\, interpretano un uomo che di professione fa l’analista e una donna 
 che porta un problema assolutamente nuovo negli annali della psicanalisi. 
 Si vedrà un confronto che diventa una battaglia senza esclusione di colpi
 : la seduta di analisi diventa un’epopea sul rapporto uomo-donna\, sulla
  difficoltà di capirsi e sulla ricerca di un possibile incontro.\n\nVi as
 pettiamo\, dunque\, domenica 9 marzo al Teatro Comunale Veroli alle ore 18
 .00\, con apertura botteghino alle ore 17.30\, per assistere ad un travolg
 ente spettacolo ispirato ai testi di Franca Rame e della scrittrice svedes
 e Mare Kandre.\n\n \n\nBIGLIETTO:\nINTERO: € 10.00\nRIDOTTO: € 7.00 (U
 nder 18)\n\nPer info e prenotazioni: 3513917931\nteatrocomunaleveroli2019@
 gmail.com
ATTACH;FMTTYPE=image/jpeg:https://lazioeventi.com/wp-content/uploads/2025/
 03/016-01.jpg
CATEGORIES:Musica, Spettacoli e Danza nel Lazio
LOCATION:Veroli\, Comune di Veroli\, Veroli\, Frosinone\, Lazio\, Italia
GEO:41.6911;13.4178
X-APPLE-STRUCTURED-LOCATION;VALUE=URI;X-ADDRESS=Comune di Veroli\, Veroli\,
  Frosinone\, Lazio\, Italia;X-APPLE-RADIUS=100;X-TITLE=Veroli:geo:41.6911,
 13.4178
END:VEVENT
BEGIN:VTIMEZONE
TZID:Europe/Rome
X-LIC-LOCATION:Europe/Rome
BEGIN:STANDARD
DTSTART:20241027T020000
TZOFFSETFROM:+0200
TZOFFSETTO:+0100
TZNAME:CET
END:STANDARD
END:VTIMEZONE
END:VCALENDAR