BEGIN:VCALENDAR
VERSION:2.0
PRODID:-//wp-events-plugin.com//7.2.3.1//EN
TZID:Europe/Rome
X-WR-TIMEZONE:Europe/Rome
BEGIN:VEVENT
UID:32752@lazioeventi.com
DTSTART;TZID=Europe/Rome:20221022T100000
DTEND;TZID=Europe/Rome:20221022T153000
DTSTAMP:20221018T081148Z
URL:https://lazioeventi.com/eventi/sesta-tappa-del-grande-anello-verde-di-
 roma
SUMMARY:Sesta tappa del Grande Anello Verde di Roma - Roma - 22 Ottobre 22 
 10:00
DESCRIPTION:Sabato 22 ottobre 2022 proponiamo la Sesta tappa del Grande Ane
 llo Verde di Roma\, ripartendo dalla Stazione Metro B Laurentina dove ci e
 ravamo lasciati in ottobre.\n\nLa tappa attraversa l’EUR nella solennit
 à dei palazzi terminati negli anni ‘50\, fiancheggiando il laghetto di 
 olimpica memoria\, e si addentra\, scivolando verso ovest\, in uno dei pun
 ti più remoti del grande anello verde\, percorrendo tratti della ciclabil
 e di Roma Sud. Il fascino principale è il lungo tratto del Tevere (sponda
  destra)\, dove si cammina nel verde e poi ci si addentra nel borghetto de
 lla Magliana denso di sorprese come la chiesina di Santa Passera.\n\nMa le
  sorprese non sono finite con il lungo tratto di archeologia industriale d
 ell’Ostiense zona Gazometro dove riattraverseremo il Tevere. Qui oltre l
 ’ambientazione architettonica si celano alcuni murales molto belli in un
  tratto a ridosso di questo ex polo industriale. Il percorso termina alla 
 Piramide.\n\nAppuntamento: Ore 10 capolinea metro B Laurentina\n\nArrivo p
 revisto: Ore 15\,30 stazione Metro B Piramide\n\nKm 15  – ore 5\n\nAccom
 pagna: Carlo Coronati\n\nVari punti di fuga nell’attraversamento nella z
 ona Piazza Meucci/Magliana/Viale Marconi.\n\nLe prenotazioni potranno esse
 re effettuate solamente tramite email a info@edizioniillupo.it\, scrivendo
  alla casa editrice e lasciando il numero di telefono.\n\nIl cellulare del
 la casa editrice per qualsiasi dubbio o chiarimento è 329.9748092.\n\nIl 
 numero di telefono dell’accompagnatore Carlo 340.5364218 sarà utilizzab
 ile solo il mattino dell’escursione.\n\nCome già di prassi il costo di 
 ogni proposta è di 10\,00 € che vale come buono acquisto valido fino al
  31/12/2022  da utilizzare per libri e carte editi dalla casa editrice in 
 eventi e/o manifestazioni e\, ovviamente\, per la guida in questione.\n\nL
 e escursioni avverranno sempre\, salvo diluvio\, e verranno nel caso ripro
 poste.\n\nIn ogni escursione ci saranno brevi pause di approfondimento sul
  trekking che si sta percorrendo\, più una più robusta sosta per il pani
 no. Ricordiamo sempre scarpe comode per camminare e possibilmente merenda 
 al seguito.\n\nSi suggerisce in questo percorso\, di raggiungere il luogo 
 di partenza con mezzi pubblici per avere la massima libertà al termine de
 ll’escursione.\n
ATTACH;FMTTYPE=image/jpeg:https://lazioeventi.com/wp-content/uploads/2021/
 11/RB2-COPERTINA-STAMPA-23.2.jpg
CATEGORIES:Sport, Tempo Libero e Divertimento nel Lazio
LOCATION:Roma\, Via Leopardi\, Roma\, Roma\, Lazio\, Italia
GEO:41.8942;12.5017
X-APPLE-STRUCTURED-LOCATION;VALUE=URI;X-ADDRESS=Via Leopardi\, Roma\, Roma\
 , Lazio\, Italia;X-APPLE-RADIUS=100;X-TITLE=Roma:geo:41.8942,12.5017
END:VEVENT
BEGIN:VTIMEZONE
TZID:Europe/Rome
X-LIC-LOCATION:Europe/Rome
BEGIN:DAYLIGHT
DTSTART:20220327T030000
TZOFFSETFROM:+0100
TZOFFSETTO:+0200
TZNAME:CEST
END:DAYLIGHT
END:VTIMEZONE
END:VCALENDAR