BEGIN:VCALENDAR
VERSION:2.0
PRODID:-//wp-events-plugin.com//7.2.3.1//EN
TZID:Europe/Rome
X-WR-TIMEZONE:Europe/Rome
BEGIN:VEVENT
UID:36848@lazioeventi.com
DTSTART;TZID=Europe/Rome;VALUE=DATE:20230909
DTEND;TZID=Europe/Rome;VALUE=DATE:20230911
DTSTAMP:20230830T085822Z
URL:https://lazioeventi.com/eventi/settembre-al-parco-di-veio-9-10-settemb
 re
SUMMARY:Settembre al Parco di Veio - Sacrofano - 9 Settembre 23 00:00
DESCRIPTION:Ecco gli appuntamenti di settembre al Parco di Veio a cura dell
 'Ente Parco e delle associazioni locali.\n\nSabato 9 Settembre\nBiodiversi
 tà in tracce\nOrganizzazione: Società Cooperativa Fauna Urbis\nUna passe
 ggiata alla ricerca di segni e tracce lasciate dalla fauna del Parco. Un
 ’occasione unica per scoprire i segreti di piccoli e grandi animali che 
 abitano i boschi\, i prati e i corsi d’acqua delle Valli del Sorbo.\nApp
 untamento: Formello – parcheggio di Piazza della Repubblica.\n– Parten
 za: ore 9:30\n– Durata:3 ore\n– Lunghezza:2 km\n– Difficoltà: Basso
 \n– Abbigliamento: Abbigliamento da campagna a strati\, scarpe da trekki
 ng o ginnastica\, acqua.\n– Accessibilità: bambini da 8 anni in su.\n
 – Biglietto: gratuito con il contributo del Parco per un n. massimo di 1
 5 persone\n– Info e prenotazioni: Info WhatsApp 3474142892 – faunaurbi
 s@libero.it- prenotazione obbligatoria tramite form online dell’evento s
 ul sito www.faunaurbis.it/eventi\n\nSabato 9 settembre\nLe antiche sorgent
 i intorno a Monte Calvio\, Castellaccio e antica cava di Grotta Pagana: pa
 esaggi veientani\nOrganizzazione: Humus Sapiens A.C.T. – Ambiente Cultur
 a Territorio\nSi raggiunge la sorgente magnesiaca e poi la cascata della m
 armitta dei giganti\, fino a raggiungere la cima arrotondata del Monte Cal
 vio. In progressione si scende dalla sorgente dell’acqua acetosa fino al
 le cascate dell’acqua forte.\nAppuntamento: Castelnuovo di Porto – par
 cheggio dell’area di sosta Prataccio\n– Partenza: ore 18.00 – Durata
 : 3 ore\n– Lunghezza 8 km – Difficoltà: media\n– Abbigliamento: abb
 igliamento comodo da trekking (giacca impermeabile\, felpa\, maglietta di 
 ricambio) e obbligatorie scarpe da trekking (suola incisa). Necessario ave
 re con sé acqua (almeno 2 litri).\n– Accessibilità: accessibile ai bam
 bini solo se abituati ai lunghi percorsi\n– Biglietto:visita guidata gra
 tuita con il contributo del Parco per un n. massimo di 15 persone – pren
 otazione obbligatoria\n– Info e prenotazioni: cell. 3894363449 – mail 
 a.carletti61@gmail.com\n\nDomenica 10 Settembre\nIl bosco dei folletti\nOr
 ganizzazione: Cooperativa Sociale Mille e Una Notte\nGrazie a racconti\, l
 etture animate\, attività sensoriali\, ludiche e perché no… ad un pizz
 ico di magia\, i bambini avranno la possibilità di conoscere i segreti de
 l bosco\, dei suoi abitanti e di vivere l’emozione che solo una passeggi
 ata in mezzo alla natura può regalare.\nAppuntamento: Località Le Rughe 
 – Via Romania\n– Partenza: ore 17:00\n- Durata:2 ore\n– Lunghezza:1 
 km\n– Difficoltà: Basso\n– Abbigliamento: Scarpe comode (preferibilme
 nte da trekking) e abbigliamento adatto a una passeggiata nel bosco\, pant
 aloni lunghi\, cappellino e borraccia d’acqua.\n– Accessibilità: Atti
 vità riservata a famiglie con bambini dai 3 ai 5 anni.\n– Biglietto: gr
 atuito con il contributo del Parco per un n. massimo di 15 persone – pre
 notazione obbligatoria entro le ore 12:00 del giovedì antecedente l’att
 ività.\n– Info e prenotazioni: Tel.0686210833 int. 2  – Mail naturaec
 ultura@lemilleeunanotte.coop\nhttps://forms.gle/VSDLoabzvdgYRW5V8
ATTACH;FMTTYPE=image/jpeg:https://lazioeventi.com/wp-content/uploads/2017/
 12/Vetta-Veio.jpg
CATEGORIES:Arte e Cultura nel Lazio,Sport, Tempo Libero e Divertimento nel
 Lazio
LOCATION:Sacrofano\, Comune di Sacrofano\, Sacrofano\, Roma\, Lazio\, Itali
 a
GEO:42.1061;12.4476
X-APPLE-STRUCTURED-LOCATION;VALUE=URI;X-ADDRESS=Comune di Sacrofano\, Sacro
 fano\, Roma\, Lazio\, Italia;X-APPLE-RADIUS=100;X-TITLE=Sacrofano:geo:42.1
 061,12.4476
END:VEVENT
BEGIN:VTIMEZONE
TZID:Europe/Rome
X-LIC-LOCATION:Europe/Rome
BEGIN:DAYLIGHT
DTSTART:20230326T030000
TZOFFSETFROM:+0100
TZOFFSETTO:+0200
TZNAME:CEST
END:DAYLIGHT
END:VTIMEZONE
END:VCALENDAR