BEGIN:VCALENDAR
VERSION:2.0
PRODID:-//wp-events-plugin.com//7.2.3.1//EN
TZID:Europe/Rome
X-WR-TIMEZONE:Europe/Rome
BEGIN:VEVENT
UID:24628@lazioeventi.com
DTSTART:20230701T200000Z
DTEND:20230707T213000Z
DTSTAMP:20230704T124935Z
URL:https://lazioeventi.com/eventi/settimana-del-teatro-amatoriale
SUMMARY:Settimana del Teatro Amatoriale - Formia - 1 Luglio 23 21:00
DESCRIPTION:Ritorna la Settimana del Teatro Amatoriale di Maranola Concorso
  a Premi FITA organizzata dall'Associazione Culturale "Il Setaccio" con il
  patrocinio del Comune di Formia\, della Pro Loco Formia e dell' Parco Nat
 urale dei Monti Aurunci Per sette se
ATTACH;FMTTYPE=image/jpeg:https://lazioeventi.com/wp-content/uploads/2019/
 07/teatro-amatoriale-maranola.jpg
CATEGORIES:Musica, Spettacoli e Danza nel Lazio
LOCATION:Formia\, Comune\, Formia\, Latina\, Lazio\, Italia
GEO:41.2559;13.6059
X-APPLE-STRUCTURED-LOCATION;VALUE=URI;X-ADDRESS=Comune\, Formia\, Latina\, 
 Lazio\, Italia;X-APPLE-RADIUS=100;X-TITLE=Formia:geo:41.2559,13.6059
END:VEVENT
END:VCALENDAR