BEGIN:VCALENDAR
VERSION:2.0
PRODID:-//wp-events-plugin.com//7.2.3.1//EN
TZID:Europe/Rome
X-WR-TIMEZONE:Europe/Rome
BEGIN:VEVENT
UID:27226@lazioeventi.com
DTSTART;TZID=Europe/Rome:20200808T203000
DTEND;TZID=Europe/Rome:20200808T233000
DTSTAMP:20200804T202653Z
URL:https://lazioeventi.com/eventi/sfilata-di-moda-etica-e-sostenibile
SUMMARY:Sfilata di moda etica e sostenibile - Cassino - 8 Agosto 20 20:30
DESCRIPTION:L'economia circolare entra nella moda. 100% tessuti naturali 0%
  sfruttamento dei lavoratori
ATTACH;FMTTYPE=image/jpeg:https://lazioeventi.com/wp-content/uploads/2020/
 08/sfilata-moda.jpg
CATEGORIES:Varie
LOCATION:Cassino\, Comune di Cassino\, Cassino\, Frosinone\, Lazio\, Italia
GEO:41.4929518;13.830372300000022
X-APPLE-STRUCTURED-LOCATION;VALUE=URI;X-ADDRESS=Comune di Cassino\, Cassino
 \, Frosinone\, Lazio\, Italia;X-APPLE-RADIUS=100;X-TITLE=Cassino:geo:41.49
 29518,13.830372300000022
END:VEVENT
BEGIN:VTIMEZONE
TZID:Europe/Rome
X-LIC-LOCATION:Europe/Rome
BEGIN:DAYLIGHT
DTSTART:20200329T030000
TZOFFSETFROM:+0100
TZOFFSETTO:+0200
TZNAME:CEST
END:DAYLIGHT
END:VTIMEZONE
END:VCALENDAR