BEGIN:VCALENDAR
VERSION:2.0
PRODID:-//wp-events-plugin.com//7.2.3.1//EN
TZID:Europe/Rome
X-WR-TIMEZONE:Europe/Rome
BEGIN:VEVENT
UID:31609@lazioeventi.com
DTSTART;TZID=Europe/Rome:20220724T203000
DTEND;TZID=Europe/Rome:20220724T220000
DTSTAMP:20220711T113500Z
URL:https://lazioeventi.com/eventi/sguardi-di-donna-volti-al-femminile-3
SUMMARY:Sguardi di Donna - Volti al Femminile - Itri - 24 Luglio 22 20:30
DESCRIPTION:Ad Itri dal 14 Luglio al 20 Agosto la Rassegna Cinematografica 
 "Sguardi di Donna - Volti al Femminile".\n\nGrande Attesa ad Itri per la R
 assegna Cinematografica "Sguardi di Donna - Volti al Femminile". Un Viaggi
 o nel Cinema tra Roma e Napoli dedicata a quattro figure femminili del Neo
 realismo italiano\, di primissimo piano della storia del cinema e della cu
 ltura: Sofia Loren\, Mariangela Melato\, Monica Vitti e Lina Wertmüller.\
 n\nCon la Direzione Artistica del Prof. Giuseppe Benedetti\, l’evento\, 
 alla sua prima edizione\, vuole rendere omaggio alla grande attrice Sofia 
 Loren\, a 60 anni esatti dall’Oscar vinto come migliore interpretazione 
 nel film “La Ciociara” le cui scene principali sono state girate a Itr
 i nel 1960\, e alle donne più importanti del cinema italiano.\n\nUn event
 o socio-culturale istituzionale dedicato alla figura della donna\, con una
  duplice funzione di narratrice oltre che di memoria storica di un paese\,
  della sua storia\, quella vissuta nel corso del secondo conflitto mondial
 e\, momento storico in cui l'arte cinematografica\, ha vissuto uno dei mas
 simi momenti del suo splendore grazie al Neorealismo italiano.\n\nGli appu
 ntamenti in calendario:\ngiovedì 14 luglio 2022\nore 19:00\narea fitness 
 del Vivaio del Parco del Monti Aurunci nel Comune di Itri.\nevento di inau
 gurazione e presentazione della rassegna\nINGRESSO GRATUITO\n\nlunedì 18 
 luglio 2022\nore 21:00\nPiazza Luigina Sinapi - ITRI\nproiezione del film 
 “La Ciociara”del 1960 di Vittorio De Sica. Nel corso della serata sar
 à celebrata Sofia Loren alla quale verrà dedicato premio alla carriera e
  riconoscimento della cittadinanza onoraria.\nSaranno presentati 3 murales
  con altrettante scene del film “La Ciociara” che ritraggono la Loren 
 sui luoghi stesso ove furono girate le scene circa 60 anni fa.\nINGRESSO G
 RATUITO\n\ndomenica 24 Luglio 2022\nore 20:30\nostello “Ossigeno”\, si
 to sulla S.S. 82 nel tratto compreso tra i Comuni di Itri e Campodimele.\n
 proiezione del film “Polvere di stelle” di Alberto Sordi. Un tributo n
 ei confronti di un’altra grande donna del cinema italiano\, Monica Vitti
 \, che nel 1974 vince il David di Donatello per migliore attrice protagoni
 sta per il film su citato.\nINGRESSO GRATUITO\n\nlunedì 8 agosto 2022\nor
 e 21:00\nLargo Spapenda\, all’interno del quartiere storico “Lo stracc
 io” lungo la strada consolare Appia e soprattutto sul percorso della Via
  Francigena del Sud.\nproiezione del film “Pasqualino sette bellezze” 
 della regista Lina Wertmuller\, prima donna a ricevere un Oscar.\nINGRESSO
  GRATUITO\n\nsabato 20 agosto 2022\nore 21:00\nCorte Comunale del Comune d
 i Itri.\nproiezione del film “Lo chiameremo Andrea”\, film con Mariang
 ela Melato.\nNel corso della serata sarà allestita la mostra con le locan
 dine originali dei 4 film stampate per l’occasione e una mostra fotograf
 ica con momenti\, testimonianze\, scene e personaggi itrani (comparse) imm
 ortalati nel corso delle riprese del film “La Ciociara” girato a Itri 
 nel 1960. Infine\, in ricordo della manifestazione e come incipit affinch
 é la stessa possa ripetersi nel tempo\, verrà scoperta una targa illustr
 ativa dedicata a “La Ciociara”\, installazione che sarà realizzata da
  un artista locale e che prenderà spunto dalla locandina originale del fi
 lm.\nINGRESSO GRATUITO
ATTACH;FMTTYPE=image/jpeg:https://lazioeventi.com/wp-content/uploads/2022/
 07/sguardi-donna.jpg
CATEGORIES:Musica, Spettacoli e Danza nel Lazio
LOCATION:Itri\, Piazza Umberto I\, Itri\, Latina\, Lazio\, Italia
GEO:41.290876;13.531233
X-APPLE-STRUCTURED-LOCATION;VALUE=URI;X-ADDRESS=Piazza Umberto I\, Itri\, L
 atina\, Lazio\, Italia;X-APPLE-RADIUS=100;X-TITLE=Itri:geo:41.290876,13.53
 1233
END:VEVENT
BEGIN:VTIMEZONE
TZID:Europe/Rome
X-LIC-LOCATION:Europe/Rome
BEGIN:DAYLIGHT
DTSTART:20220327T030000
TZOFFSETFROM:+0100
TZOFFSETTO:+0200
TZNAME:CEST
END:DAYLIGHT
END:VTIMEZONE
END:VCALENDAR