BEGIN:VCALENDAR
VERSION:2.0
PRODID:-//wp-events-plugin.com//7.2.3.1//EN
TZID:Europe/Rome
X-WR-TIMEZONE:Europe/Rome
BEGIN:VEVENT
UID:34058@lazioeventi.com
DTSTART;TZID=Europe/Rome:20230211T160000
DTEND;TZID=Europe/Rome:20230211T183000
DTSTAMP:20230209T164106Z
URL:https://lazioeventi.com/eventi/sguardo-sul-reale-allegorie-urbane
SUMMARY:Sguardo sul reale: allegorie urbane - Minturno - 11 Febbraio 23 16:
 00
DESCRIPTION:La conclusione del progetto POP UP CITY\n11 febbraio ore 16:00 
 Sala consiliare Comune di Minturno\n\nSi terrà il prossimo 11 febbraio da
 lle 16:00 alle 18:00\, presso la sala consiliare del Comune di Minturno\, 
 l’evento “Sguardo sul reale: allegorie urbane”. L’incontro rappres
 enta la conclusione di un anno di attività sul territorio del progetto 
 “POP UP CITY - percorsi reali e virtuali di riattivazione del territorio
 ”\, vincitore del bando VitaminaG nell’ambito del programma GenerAzion
 iGiovani.it finanziato dalle Politiche Giovanili della Regione Lazio con i
 l sostegno del Dipartimento per la Gioventù. \n\nDurante l’incontro si 
 intende riflettere su come l’arte e la cultura possano instaurare dei pr
 ocessi virtuosi all’interno delle comunità e divenire occasioni di rige
 nerazione urbana. Il progetto “Pop Up City” vuole esperire il territor
 io utilizzando la tecnologia digitale della realtà aumentata applicata ai
  beni culturali. Diventa così possibile raccontare storie che affondano l
 e radici nella cultura locale e che si fanno portavoce di un immaginario c
 ollettivo. Si tratta di narrazioni\, leggende\, storie vere\, false o vero
 simili\, raccolte sul territorio e restituite attraverso un percorso autor
 iale di rielaborazione artistica che si avvale di tecniche diverse: pittur
 a digitale\, 3d art\, cinema\, foto\, audio. \n\nPOP-UP CITY nasce sia com
 e una sfida che come un esercizio di immaginazione con l’intento di apri
 re delle finestre inaspettate all’interno della città\, delle allegorie
  urbane virtuali ma allo stesso tempo reali. \n\nSaluti di: \n● rapprese
 ntanti dei Comuni di Minturno\, Gaeta e Formia \nIntervengono: \n● Maria
 nna Fazzi\, ass. cult. Seminaria Sogninterra\, Formia \n● Davide Rossill
 o\, Memorie Urbane\, Gaeta \n● Giovanni Bellotti e Alessandra Covini\, S
 tudio Ossidiana\, Rotterdam \n● Diana Ciufo\, direzione artistica di POP
  UP CITY - percorsi reali e virtuali di riattivazione del territorio \nMod
 era: Andrea Di Cinzio\, dottorando presso l’Università degli Studi G. d
 ’Annunzio - Dipartimento di Architettura
ATTACH;FMTTYPE=image/jpeg:https://lazioeventi.com/wp-content/uploads/2023/
 02/Poster_allegorie-urbane_stampa.jpg
CATEGORIES:Arte e Cultura nel Lazio
LOCATION:Minturno\, Comune\, Minturno\, Latina\, Lazio\, Italia
GEO:41.262274;13.746796000000018
X-APPLE-STRUCTURED-LOCATION;VALUE=URI;X-ADDRESS=Comune\, Minturno\, Latina\
 , Lazio\, Italia;X-APPLE-RADIUS=100;X-TITLE=Minturno:geo:41.262274,13.7467
 96000000018
END:VEVENT
BEGIN:VTIMEZONE
TZID:Europe/Rome
X-LIC-LOCATION:Europe/Rome
BEGIN:STANDARD
DTSTART:20221030T020000
TZOFFSETFROM:+0200
TZOFFSETTO:+0100
TZNAME:CET
END:STANDARD
END:VTIMEZONE
END:VCALENDAR