BEGIN:VCALENDAR
VERSION:2.0
PRODID:-//wp-events-plugin.com//7.2.3.1//EN
TZID:Europe/Rome
X-WR-TIMEZONE:Europe/Rome
BEGIN:VEVENT
UID:34609@lazioeventi.com
DTSTART;TZID=Europe/Rome:20230325T160000
DTEND;TZID=Europe/Rome:20230325T173000
DTSTAMP:20230315T173324Z
URL:https://lazioeventi.com/eventi/sherlock-holmes-e-il-mistero-della-mumm
 ia-2
SUMMARY:Sherlock Holmes e il Mistero della Mummia - Roma - 25 Marzo 23 16:0
 0
DESCRIPTION:Ciak in famiglia presenta \nSHERLOCK HOLMES E IL MISTERO DELLA 
 MUMMIA\ndi Anna Masullo\nCon Barbara Abbondanza\, Andrea Ruggieri\, Gigi P
 alla\, Giulia Soleo\, Maria Vittoria Rezzi\, Sofia Pizzi.\nCoreografie Gio
 vanna Gallorini\nDisegno luci Marco Catalucci\nRegia Linda Manganelli\n\nL
 o spettacolo dedicato a tutta la famiglia che ripercorre le atmosfere dell
 a letteratura vittoriana inglese attraverso una rivisitazione del canone h
 olmesiano creato da Arthur Conan Doyle e apre una finestra sulla grande st
 agione dell’archeologia egiziana ottocentesca.\nChi avrà rubato il papi
 ro con scritta la maledizione della mummia? Chi si nasconde dietro i sussu
 rri inquietanti che sembrano venire dal sarcofago? E soprattutto\, dov'è 
 finito il tesoro di cui parla il papiro? Saranno i nostri protagonisti con
  l’aiuto di Sherlock Holmes a risolvere il caso o i piccoli spettatori c
 he assiepano la platea?\nUn’ora d’intrighi e divertimento! \n\nIl 19 e
  25 marzo alle ore 11\,00 e il 26 marzo alle ore 16\,00\n\nVi aspettiamo!\
 nPer prenotare scrivete a info@teatrociakroma.it\nPer acquistare i bigliet
 ti online www.teatrociakroma.it
ATTACH;FMTTYPE=image/jpeg:https://lazioeventi.com/wp-content/uploads/2023/
 03/sherlock.jpg
CATEGORIES:Musica, Spettacoli e Danza nel Lazio
LOCATION:Roma\, Via Leopardi\, Roma\, Roma\, Lazio\, Italia
GEO:41.8942;12.5017
X-APPLE-STRUCTURED-LOCATION;VALUE=URI;X-ADDRESS=Via Leopardi\, Roma\, Roma\
 , Lazio\, Italia;X-APPLE-RADIUS=100;X-TITLE=Roma:geo:41.8942,12.5017
END:VEVENT
BEGIN:VTIMEZONE
TZID:Europe/Rome
X-LIC-LOCATION:Europe/Rome
BEGIN:STANDARD
DTSTART:20221030T020000
TZOFFSETFROM:+0200
TZOFFSETTO:+0100
TZNAME:CET
END:STANDARD
END:VTIMEZONE
END:VCALENDAR