BEGIN:VCALENDAR
VERSION:2.0
PRODID:-//wp-events-plugin.com//7.2.3.1//EN
TZID:Europe/Rome
X-WR-TIMEZONE:Europe/Rome
BEGIN:VEVENT
UID:33211@lazioeventi.com
DTSTART;TZID=Europe/Rome:20221125T180000
DTEND;TZID=Europe/Rome:20221125T200000
DTSTAMP:20221123T165100Z
URL:https://lazioeventi.com/eventi/si-accende-il-natale-a-via-del-babuino
SUMMARY:Si accende il Natale a Via del Babuino - Roma - 25 Novembre 22 18:0
 0
DESCRIPTION:Il prossimo 25 novembre alle ore 18.00 si accenderanno le lumin
 arie natalizie di Via del Babuino nel cuore del centro storico della Capit
 ale.\n\nUna tradizione consolidata che vede nell’ultimo decennio la blas
 onata via del tridente del Centro Storico di Roma\, distinguersi per l’u
 nicità\, l’eleganza e la raffinatezza delle sue luci\, apprezzate e fot
 ografate da romani e turisti.\n\nQuest’anno\,  per la prima volta\, ad 
 abbellire Via del Babuino saranno le luminarie leccesi\, nel rispetto dell
 a tradizione italiana\, fortissimamente volute dalla Nuova Associazione Vi
 a del Babuino.\n\nVenerdì 25 novembre alle 18.00 sarà la Fanfara dei Car
 abinieri che sfilerà in Via Condotti\, Piazza di Spagna e Via del Babuino
 \, ad accompagnare l’evento.\n\nMentre il 9 Dicembre alle 16.30 sfilerà
  la Banda di Roma Capitale\, nello stesso percorso.\n\nUn evento che vedr
 à protagonista tutto il  Comitato “Rome Quality District”\, l’orga
 nizzazione nata a marzo 2022 per il rilancio del centro storico di Roma ch
 e vede il connubio di quattro associazioni storiche: Nuova Associazione de
 l Babuino\, presieduta da Maria Letizia Rapetti\,  Associazione Via Condo
 tti\, presieduta da Gianni Battistoni\, Associazione Internazionale di Via
  Margutta\, presieduta da  Alberto Moncada e Associazione Piazza di Spagn
 a\, presieduta da David Sermoneta\, che accenderanno in sincronismo perfet
 to anche le loro luminarie per regalare alla Capitale un tridente scintill
 ante ed ineguagliabile.\n\nUn venerdì che per Via del Babuino è anche 
 “White Friday”\, una tradizione iniziata nel 2019 -  in contrapposizi
 one netta con il Black Friday - luminarie e musiche natalizie di sottofond
 o faranno da perfetta cornice alla splendida passeggiata che da piazza del
  Popolo arriva fino a piazza di Spagna.\n\nLe aziende e le Boutique che h
 anno contribuito alla realizzazione delle luminarie\,  offriranno ai prop
 ri clienti calici di bollicine per salutare l’arrivo del periodo nataliz
 io. Hanno contribuito\, in mero ordine alfabetico: Anteprima\, Aspesi\, Ba
 buino 79 Holiday Apt\,  Pasquale Bruni\, Chanel\,  Roberto Coin Creed\, 
 Etro\, Finleonardo\, Flos\, Gente Donna\, Gente Uomo Givenchy\, Hausmann\,
  Hotel De Russie\,  Kenzo\, Mattioli\, Moschino\, Pinko\, Spiezia\, Tiffa
 ny\, Tod's\, Vhernier.
ATTACH;FMTTYPE=image/jpeg:https://lazioeventi.com/wp-content/uploads/2022/
 11/Luminarie-Via-del-Babuino-1.jpg
CATEGORIES:Sport, Tempo Libero e Divertimento nel Lazio
LOCATION:Roma\, Via Leopardi\, Roma\, Roma\, Lazio\, Italia
GEO:41.8942;12.5017
X-APPLE-STRUCTURED-LOCATION;VALUE=URI;X-ADDRESS=Via Leopardi\, Roma\, Roma\
 , Lazio\, Italia;X-APPLE-RADIUS=100;X-TITLE=Roma:geo:41.8942,12.5017
END:VEVENT
BEGIN:VTIMEZONE
TZID:Europe/Rome
X-LIC-LOCATION:Europe/Rome
BEGIN:STANDARD
DTSTART:20221030T020000
TZOFFSETFROM:+0200
TZOFFSETTO:+0100
TZNAME:CET
END:STANDARD
END:VTIMEZONE
END:VCALENDAR