BEGIN:VCALENDAR
VERSION:2.0
PRODID:-//wp-events-plugin.com//7.2.3.1//EN
TZID:Europe/Rome
X-WR-TIMEZONE:Europe/Rome
BEGIN:VEVENT
UID:34738@lazioeventi.com
DTSTART;TZID=Europe/Rome:20230323T210000
DTEND;TZID=Europe/Rome:20230323T224500
DTSTAMP:20230321T074703Z
URL:https://lazioeventi.com/eventi/siamo-positivi
SUMMARY:Siamo Positivi - Civitavecchia - 23 Marzo 23 21:00
DESCRIPTION:Tutto pronto per la seconda edizione di “Aggiungi una nota…
 ” serata organizzata da Il Mosaico per la direzione artistica di Giulio 
 Castello ed a favore dell’Ottavanota Onlus tramite raccolta fondi.\n\nLo
  spettacolo si terrà giovedì sera presso il Teatro Comunale Traiano dall
 e ore 21\,00 ed avrà come ospiti I Carta Bianca con il loro ultimo lavoro
  “Siamo Positivi” che ci farà divertire con la voglia di tornare alla
  nostra quotidianità\, alle piccole cose che si danno per scontate. \n\nE
 ’ un inno alla risata\, al non prendersi troppo sul serio ed ironizzare 
 senza svilire anche su problemi difficili che sono capitati recentemente n
 ella vita. “Siamo Positivi” propone una veste nuova grazie alle interp
 retazioni di Daniele Graziani e Lucio Dal Maso con la “complicità” di
  Sara Santostasi in una sorta di equilibro tra la tenacia delle cose antic
 he e le novità e la freschezza che il progresso ed il futuro ci possono p
 ortare.\n\nPresenterà la serata Nicoletta Scirè. \n\nUn ringraziamento a
 ll’Amministrazione Comunale\, al Sindaco Ernesto Tedesco\, all’Assesso
 re Simona Galizia ed a tutti coloro che collaboreranno alo spettacolo.\nIn
 fo: 333 6709020 e 392 8044288
ATTACH;FMTTYPE=image/jpeg:https://lazioeventi.com/wp-content/uploads/2023/
 03/Ottavanota-onlus.jpg
CATEGORIES:Musica, Spettacoli e Danza nel Lazio
LOCATION:Civitavecchia\, Comune\, Civitavecchia\, Roma\, Lazio\, Italia
GEO:42.0911;11.7968
X-APPLE-STRUCTURED-LOCATION;VALUE=URI;X-ADDRESS=Comune\, Civitavecchia\, Ro
 ma\, Lazio\, Italia;X-APPLE-RADIUS=100;X-TITLE=Civitavecchia:geo:42.0911,1
 1.7968
END:VEVENT
BEGIN:VTIMEZONE
TZID:Europe/Rome
X-LIC-LOCATION:Europe/Rome
BEGIN:STANDARD
DTSTART:20221030T020000
TZOFFSETFROM:+0200
TZOFFSETTO:+0100
TZNAME:CET
END:STANDARD
END:VTIMEZONE
END:VCALENDAR