BEGIN:VCALENDAR
VERSION:2.0
PRODID:-//wp-events-plugin.com//7.2.3.1//EN
TZID:Europe/Rome
X-WR-TIMEZONE:Europe/Rome
BEGIN:VEVENT
UID:36657@lazioeventi.com
DTSTART;TZID=Europe/Rome:20230812T210000
DTEND;TZID=Europe/Rome:20230812T223000
DTSTAMP:20230811T093043Z
URL:https://lazioeventi.com/eventi/silvia-costanzi-e-la-rieti-opera-ensemb
 le
SUMMARY:Silvia Costanzi e la Rieti Opera Ensemble - Micigliano - 12 Agosto 
 23 21:00
DESCRIPTION:Torna il soprano Silvia Costanzi e con lei la sua “Rieti Oper
 a Ensemble”.\n\nSabato 12 agosto\, dunque\, dalle 21 l’ensemble operis
 tico\, guidati con la consueta maestria dal soprano reatino\, si esibirà 
 per i tanti ospiti agostani del Terminillo nel bel salone del Tempio monta
 no. \n\nIn elenco\, come sempre\, un vasto ed accurato programma che quest
 ’anno si dividerà in due parti: la prima sarà dedicata ad alcune arie 
 e duetti della tradizione operistica italiana ed internazionale. \nLa seco
 nda parte sarà invece dedicata a due opere specifiche\, il “Mefistofele
 ” di Arrigo Boito ed il “Rigoletto” di Giuseppe Verdi.\nPianista acc
 ompagnatore\, some sempre\, il M° Ruggero Russi. Presenta l’evento Renz
 o Cocchi. \n\nUna realtà artistica consolidata\, ormai\, quella della Rie
 ti Opera Ensemble\, in grado finalmente di colmare uno spazio per sin trop
 po tempo restato vuoto nel panorama culturale cittadino\, \n\nAppuntamento
  dunque sabato 12 agosto alle 21 presso il salone del tempio votivo “San
  Francesco” al Terminillo.
ATTACH;FMTTYPE=image/jpeg:https://lazioeventi.com/wp-content/uploads/2023/
 08/rieti-opera-ensemble.jpg
CATEGORIES:Musica, Spettacoli e Danza nel Lazio
LOCATION:Micigliano\, Comune\, Micigliano\, Rieti\, Lazio\, Italia
GEO:42.4508;13.0547
X-APPLE-STRUCTURED-LOCATION;VALUE=URI;X-ADDRESS=Comune\, Micigliano\, Rieti
 \, Lazio\, Italia;X-APPLE-RADIUS=100;X-TITLE=Micigliano:geo:42.4508,13.054
 7
END:VEVENT
BEGIN:VTIMEZONE
TZID:Europe/Rome
X-LIC-LOCATION:Europe/Rome
BEGIN:DAYLIGHT
DTSTART:20230326T030000
TZOFFSETFROM:+0100
TZOFFSETTO:+0200
TZNAME:CEST
END:DAYLIGHT
END:VTIMEZONE
END:VCALENDAR