BEGIN:VCALENDAR
VERSION:2.0
PRODID:-//wp-events-plugin.com//7.2.3.1//EN
TZID:Europe/Rome
X-WR-TIMEZONE:Europe/Rome
BEGIN:VEVENT
UID:35686@lazioeventi.com
DTSTART;TZID=Europe/Rome:20230609T180000
DTEND;TZID=Europe/Rome:20230610T200000
DTSTAMP:20230531T144909Z
URL:https://lazioeventi.com/eventi/six-ways-lazio-olevano-romano
SUMMARY:Six Ways Lazio - Olevano Romano - 9 Giugno 23 18:00
DESCRIPTION:A Olevano Romano arriva la chitarra classica con Six Ways Lazio
  - Dimore storiche tour 2023\n\nGli artisti protagonisti in questa edizion
 e sono l’eccellenza della chitarra mondiale con il chitarrista argentino
  Victor Villadangos\, maestro riconosciuto per la sua grande eleganza\, se
 nsibilità e tecnica\;  i torinesi Giorgio Mirto\, direttore artistico\, c
 ompositore e docente di chitarra classica al conservatorio statale di musi
 ca “Pietro Mascagni” di Livorno\, e Pietro Locatto\, chitarra d’oro 
 come “giovane promessa” al Convegno internazionale di chitarra di Mila
 no\, vincitore del XV Concorso internazionale di chitarra “Niccolò Paga
 nini” di Parma\, di “Gianni Bergamo” International guitar competitio
 n di Lugano\, del Concorso internazionale di chitarra di Bale-Valle\, in C
 roazia. Infine\, il duo De Felice – Arata (flauto ottocentesco e chitarr
 a romantica) che è esibito presso sale di grande prestigio\, come KIOI Co
 ncert Hall (Tokyo) and Carnagie Hall (New York).\n\n"Il percorso del 2023 
 rinnova un appuntamento regionale con la chitarra classica e la bellezza d
 i luoghi storici ed evocativi - afferma Mauro Brondi\, ideatore e organizz
 atore del progetto -. Dopo gli anni della pandemia\, in cui abbiamo inaugu
 rato una vera e propria serie originale con registrazioni video-live delle
  performance di tanti artisti che si sono esibiti presso gli spazi vuoti d
 elle dimore\, diffondendole sul canale Youtube del progetto (tutto sempre 
 visibile sul canale di Sixways Festival)\, oggi siamo completamente dal vi
 vo\, con artisti di grande prestigio\, sensibilità e personalità. Ogni m
 usicista porta una propria storia musicale e dall’incontro con le dimore
  nascono nuovi e originali racconti\, assolutamente emozionanti".\n\nQuest
 o il programma della due giorni: \n\nVenerdì 9 giugno\, ore 18.00 - 19.00
 \nPalazzo Colonna-Marcucci Olevano Romano (RM)\nFrancesco Dominici Buracci
 ni (chitarra classica)\nAnnalisa Zito (chitarra classica)\nIngresso gratui
 to\n\nSabato 10 giugno\, ore 18.00 - 19.00\nPalazzo Colonna-Marcucci Oleva
 no Romano (RM)\nFlavio Nati (chitarra classica)\nMichele Di Filippo (chita
 rra classica)\nIngresso gratuito\n\nPer avere informazioni sui costi del b
 iglietto e sulla prenotazione\, che è obbligatoria\, occorre scrivere a p
 rogetto.sixways@gmail.com. \n\nPer rimanere invece aggiornati sulla manife
 stazione è possibile visitare la pagina Facebook www.facebook.com/sixways
 festival o il profilo Instagram www.instagram.com/sixways_festival.
ATTACH;FMTTYPE=image/jpeg:https://lazioeventi.com/wp-content/uploads/2023/
 05/six-ways-lazio.jpg
CATEGORIES:Musica, Spettacoli e Danza nel Lazio
LOCATION:Olevano Romano\, Comune\, Olevano Romano\, Roma\, Lazio\, Italia
GEO:41.8605;13.0322
X-APPLE-STRUCTURED-LOCATION;VALUE=URI;X-ADDRESS=Comune\, Olevano Romano\, R
 oma\, Lazio\, Italia;X-APPLE-RADIUS=100;X-TITLE=Olevano Romano:geo:41.8605
 ,13.0322
END:VEVENT
BEGIN:VTIMEZONE
TZID:Europe/Rome
X-LIC-LOCATION:Europe/Rome
BEGIN:DAYLIGHT
DTSTART:20230326T030000
TZOFFSETFROM:+0100
TZOFFSETTO:+0200
TZNAME:CEST
END:DAYLIGHT
END:VTIMEZONE
END:VCALENDAR