BEGIN:VCALENDAR
VERSION:2.0
PRODID:-//wp-events-plugin.com//7.2.3.1//EN
TZID:Europe/Rome
X-WR-TIMEZONE:Europe/Rome
BEGIN:VEVENT
UID:43312@lazioeventi.com
DTSTART;TZID=Europe/Rome:20251213T170000
DTEND;TZID=Europe/Rome:20260107T200000
DTSTAMP:20251205T220927Z
URL:https://lazioeventi.com/eventi/smile-xmas-regala-arte-regala-sorrisi-m
 ostra-di-beneficenza
SUMMARY:Smile Xmas - Regala ARTE! Regala sorrisi. Mostra di beneficenza - R
 oma - 13 Dicembre 25 17:00
DESCRIPTION:Arriva da Art Sharing Roma una selezione di trentacinque piccol
 e tele\, selezionate tra quelle che hanno partecipato alle precedenti ediz
 ioni del contest Nartist Art ForVALUE ®: ogni anno la galleria pugliese l
 ancia\, infatti\, un premio singolare definito “mecenatismo collaborativ
 o”\, in cui gli acquirenti delle opere vengono premiati insieme agli art
 isti vincitori e una parte del ricavato viene sempre devoluta a Emergenza 
 Sorrisi ETS\, nata nel 2007. Da allora l’associazione ha operato in tren
 tuno Paesi sia con missioni programmate\, sia con interventi d’urgenza\,
  offrendo trattamenti mirati\, assistenza chirurgica e medica per bambini 
 colpiti da gravi malformazioni cranio-facciali\, ustioni e traumi di guerr
 a. Una parte del lavoro dell’associazione consiste anche nella formazion
 e sul posto di personale sanitario\, per permettere la realizzazione di pr
 ogetti stabili a favore delle diverse comunità.\n\nPer ciascun anno viene
  scelto un tema di carattere sociale\, in questo caso le opere selezionate
  provengono in prevalenza dai contest “Mediterraneo\, un sorriso che uni
 sce i popoli” e “Radici: un sorriso per connetterci alla Terra”.\n\n
 Agli artisti\, contattati direttamente da diverse gallerie in tutta Italia
 \, viene chiesto di realizzare delle piccole tele che affrontino il tema s
 celto per quell’anno\, secondo il proprio stile\, le proprie inclinazion
 i e le proprie tecniche: dal figurativo all’astratto\, dal pittorico al 
 materico\, le opere selezionate sono state realizzate da maestri emergenti
 \, di media carriera e anche molto affermati che volentieri si sono presta
 ti\, stabilendo anche un costo dell’opera veramente accessibile a chiunq
 ue e devolvendo non di rado anche l’intero ricavato dalla vendita al pro
 getto.\n\nNormalmente i lavori sono visionabili sulla piattaforma di Narti
 st oppure in brevi eventi realizzati presso gallerie che hanno invitato gl
 i artisti ad aderire ai contest: questa presentata da Art Sharing Roma è 
 la prima mostra di ampio respiro e di lunga durata\, che permette di appre
 zzare direttamente dal vivo la qualità dei lavori in una collettiva del t
 utto singolare\, allegra e colorata pensata proprio per sorridere al Natal
 e e\, se lo si vuole\, per regalare un sorriso.\n\nNon è affatto obbligat
 orio acquistare una tela\, ma è bello essere presenti e partecipare a que
 sto evento anche solo per raccontarlo.\n\nCiononostante\, l’acquisto in 
 beneficenza è possibile direttamente attraverso la piattaforma di Nartist
 \, che resta sempre attiva e sulla quale in perfetta trasparenza è possib
 ile vedere sia a quanto ammonta il montepremi del contest in corso\, sia l
 a percentuale del proprio compenso che ciascun artista ha deciso di devolv
 ere ad Emergenza Sorrisi: le tele sono tutte certificate e numerate con un
  ologramma\, garantendo così l’unicità di ciascuna opera.\n\n&nbsp\;\n
 \nArtisti in mostra:\n\nAurora Basile | Marco Berrettoni | Stefano Capozzo
  | Stefano Capozzo | Francesca Castano | Pietro Ceschel | Ciucculella | Va
 lèrie D'Aniello | Enza de Pinto | Ilaria Di Giustili | EtrA | Mario Fois 
 Carta | Chiara Foresti | Antonella Gallo | Andreina Guerrieri | Lauraballa
  | Gianni Lozupone | Cosetta Mastragostino | Bruno Menissale | Francesco M
 ignacca | Nameless | Francesco Patané | Cristiano Quagliozzi | Danilo Qui
 ntarelli | Silvia Ricciato | Adua Martina Rosarno | Katia Rossi | Mauro Ro
 ssi | Grazia Salierno | Gianna Stomeo | Osvaldo Tiberti | Luisa Valenzano 
 | Federico Vianello | Dandy Vitelli | Marisa Zaza\n\n&nbsp\;\n\nINFO PRATI
 CHE\n\nSmile Xmas. Regala ARTE! Regala Sorrisi.\n\nDal 13 dicembre 2025 al
  7 gennaio 2026\n\nOpening: sabato 13 dicembre orario continuato 11-21 nel
 l’ambito della manifestazione Strade dell’Arte a Monteverde per Santa 
 Lucia.\n\n&nbsp\;\n\nArtSharing Roma\n\nVia Giulio Tarra 64 – 00151 Roma
 \n\nA cura di Penelope Filacchione in collaborazione con Nartist\n\n&nbsp\
 ;\n\nIngresso libero\n\n&nbsp\;\n\nOrari di apertura: da martedì a sabato
  dalle 17.00 alle 20.00\n\nChiusure natalizie: 24 dicembre – 2 gennaio e
  6 gennaio.\n\n&nbsp\;\n\nUfficio stampa: ufficiostampa@artsharingroma.it\
 n\nContatti: artsharing.roma@gmail.com oppure WhatsApp 338-9409180\n\nGraf
 ica: Tania Russo\n\nAllestimento: Art Sharing Roma e Giardino Segreto Gall
 ery\n\nFotografia: Ilaria Di Giustili\n\n&nbsp\;\n\nSito web dove è possi
 bile collegarsi a tutte le opere in mostra: https://artsharingroma.it/proj
 ect/smile-xmas-regala-arte-regala-sorrisi-mostra-di-beneficenza/\n\nEvento
  fb: https://fb.me/e/dFg5m3xaj\n\nSito web Nartist: https://www.nartist.it
 /\n\nScarica l’immagine: Stefano Capozzo\, Senza titolo\, 2023\, 6 x 9\,
 5 cm tecnica mista\n\n&nbsp\;\n\n&nbsp\;
ATTACH;FMTTYPE=image/jpeg:https://lazioeventi.com/wp-content/uploads/2025/
 12/xmas-FB.jpg
CATEGORIES:Arte e Cultura nel Lazio
LOCATION:Roma\, Via Leopardi\, Roma\, Roma\, Lazio\, Italia
GEO:41.8942;12.5017
X-APPLE-STRUCTURED-LOCATION;VALUE=URI;X-ADDRESS=Via Leopardi\, Roma\, Roma\
 , Lazio\, Italia;X-APPLE-RADIUS=100;X-TITLE=Roma:geo:41.8942,12.5017
END:VEVENT
BEGIN:VTIMEZONE
TZID:Europe/Rome
X-LIC-LOCATION:Europe/Rome
BEGIN:STANDARD
DTSTART:20251026T020000
TZOFFSETFROM:+0200
TZOFFSETTO:+0100
TZNAME:CET
END:STANDARD
END:VTIMEZONE
END:VCALENDAR