BEGIN:VCALENDAR
VERSION:2.0
PRODID:-//wp-events-plugin.com//7.2.3.1//EN
TZID:Europe/Rome
X-WR-TIMEZONE:Europe/Rome
BEGIN:VEVENT
UID:32633@lazioeventi.com
DTSTART;TZID=Europe/Rome:20221018T210000
DTEND;TZID=Europe/Rome:20221018T223000
DTSTAMP:20221010T104023Z
URL:https://lazioeventi.com/eventi/so-crazy-show-hollys-good-debutta-al-je
 ro
SUMMARY:So Crazy Show: Holly’s Good debutta al Jerò - Roma - 18 Ottobre 
 22 21:00
DESCRIPTION:Una serata unica nel suo genere quella del 18 ottobre  al Jer
 ò di Roma\, un dinner show esclusivo\, tutto al femminile\,  nel cuore d
 i Ponte Milvio\, dove  debutterà il nuovo show della vulcanica showgirl 
 Holly’s Good\, il suo “So Crazy Show".\n\nUno show pensato ad hoc per 
 il locale che rimanda ai fasti ed alle atmosfere sia del Crazy Horse di Pa
 rigi\, che del Salone Margherita di Roma\, dove  Holly’s Good è stata 
 presenza fissa nel cartellone degli spettacoli.\n\nNella location\,  prog
 ettata dall’architetto Gabriele Grasso\, dove gli spazi sono intimi ma n
 ello stesso tempo coinvolgenti\, dove si percorrono nuove strade di sapore
 \, reinventando e creando associazioni tra cibo ed elementi naturali\, il 
 corpo di ballo delle Good Girls e la stessa Holly’s Good\, daranno vita 
 ad uno spettacolo unico nel suo genere\, dove alta scuola\, tecnica e prof
 essionismo saranno i capisaldi.\n\nLa direzione artistica dello show così
  come tutte le coreografie saranno curate dalla biondissima showgirl\, per
 former conclamata a livello mondiale per aver vinto\, unica italiana in as
 soluto\, il titolo di Most Classic al Burlesque Hall of Fame di Las Vegas.
 \n\nDal suo percorso di ballerina classica e moderna diplomata al Royal Ba
 llet di Londra nel 2008\, Holly’s Good\, al secolo Daisy Ciotti\, ha dat
 o vita\, proprio a Roma\, alla prima Italian Showgirl Academy\, avvalendos
 i di professionisti che formano il suo strepitoso corpo di ballo: le Good 
 Girls.\n\nAl Jerò le Good Girls\, complici gli abiti sfavillanti e le chi
 rurgiche coreografie intratterranno il pubblico presente fino al gran fina
 le che sarà affidato proprio ad Holly’s Good\,  con un numero di alta 
 scuola di Burlesque\, ma non vogliamo spoilerare nulla in anticipo.\n\nLa 
 showgirl è impegnata in un tour che la vedrà protagonista\, prima di Rom
 a\, a Cracovia\, poi a seguire Barcellona\, Londra\, Svizzera\, Parigi\, f
 ino ad approdare in Arabia Saudita.\n\nIn Italia\, invece\, Holly’s Good
  sarà protagonista\, tutti i sabati a Milano al rinomato ed esclusivo loc
 ale RedRoom\, per delle live performer mozzafiato.\n\nUn one night show qu
 ello del 18 ottobre tutto da vedere e da assaporare insieme alla prelibate
 zze che strizzano l’occhio al mondo culinario spagnolo del rinomato loca
 le romano.\n\nSo Crazy Show\n\nMartedì 18 ottobre\n\nJerò – Via Torrit
 a Tiberina\, 22 Roma (Ponte Milvio)
ATTACH;FMTTYPE=image/jpeg:https://lazioeventi.com/wp-content/uploads/2022/
 10/Le-Good-Girls-e-Hollys-Good.jpg
CATEGORIES:Musica, Spettacoli e Danza nel Lazio
LOCATION:Roma\, Via Leopardi\, Roma\, Roma\, Lazio\, Italia
GEO:41.8942;12.5017
X-APPLE-STRUCTURED-LOCATION;VALUE=URI;X-ADDRESS=Via Leopardi\, Roma\, Roma\
 , Lazio\, Italia;X-APPLE-RADIUS=100;X-TITLE=Roma:geo:41.8942,12.5017
END:VEVENT
BEGIN:VTIMEZONE
TZID:Europe/Rome
X-LIC-LOCATION:Europe/Rome
BEGIN:DAYLIGHT
DTSTART:20220327T030000
TZOFFSETFROM:+0100
TZOFFSETTO:+0200
TZNAME:CEST
END:DAYLIGHT
END:VTIMEZONE
END:VCALENDAR