BEGIN:VCALENDAR
VERSION:2.0
PRODID:-//wp-events-plugin.com//7.2.3.1//EN
TZID:Europe/Rome
X-WR-TIMEZONE:Europe/Rome
BEGIN:VEVENT
UID:34795@lazioeventi.com
DTSTART;TZID=Europe/Rome:20230328T213000
DTEND;TZID=Europe/Rome:20230328T234500
DTSTAMP:20230322T150517Z
URL:https://lazioeventi.com/eventi/so-crazy-show-il-dinner-show-e-xxl
SUMMARY:So Crazy Show: il dinner show è XXL - Roma - 28 Marzo 23 21:30
DESCRIPTION:Fervono i preparativi per il So Crazy Show\, che per questo mar
 tedì 28 marzo si presenta come un evento unico\, internazionale\, una not
 te straordinaria al Jerò Restaurant di Roma.\n\nUn dinner show in formato
  XXL quello creato\, orchestrato e coreografato dalla vulcanica Holly’s 
 Good\, che ha deciso per questa serata di inizio primavera di lasciare i s
 uoi ospiti letteralmente a bocca aperta.\n\nSul palco del blasonato locale
  a Ponte Milvio tre ospiti internazionali affiancheranno il collaudatissim
 o corpo di ballo delle Good Girls\, insieme alla sua biondissima capitana\
 , che ha creato un live show indimenticabile!\n\nLa prima guest star della
  serata è Morena Martini\, artista conosciuta per il suo vasto curriculum
  artistico\, voce soul/blues italiana che ha ereditato dalla madre anch’
 essa cantante soul sudafricana. A soli 13 anni vince il premio dedicato al
 la memoria di Mia Martini.\n\nNella televisione italiana l’esordio con P
 ippo Baudo\, poi “Amici” alla corte di Maria De Filippi\, nel 2004\, p
 oi Giorgio Panariello e “Mezzogiorno in Famiglia” su Rai2.\n\nCalca il
  palcoscenico dell’Auditorium di Roma\, realizza il suo primo progetto d
 iscografico a Parigi. Nel 2015 Ibiza la incorona protagonista musicale d
 ’eccellenza dell’isola\, nei locali cult come l’Ushuaìa\, il Pacha 
 e l’Hard Rock Hotel.\n\nNel 2019 il rientro a Milano\, che coincide con 
 la pubblicazione di 2 album: un’opera musicale che mescola orchestra e r
 ap\, insieme ad artisti come Clementino ed il secondo vede la sua voce aff
 iancata a grandi nomi come Max Gazzè\, Mario Biondi\, Michele Zarrillo e 
 molti altri.\n\nDirettamente da Madrid la seconda ospite: Giada Ottaviani\
 , un’artista che sfida le leggi della fisica e ci insegna letteralmente 
 a volare. Insegnante di danza\, flessibilità\, pole dance e cerchio aereo
  in Spagna\, ha lavorato in numerosi teatri\, per musical e spettacoli di 
 cabaret.\n\nIl suo fiore all’occhiello è “l’hair hanging”\, ovver
 o la sospensione aerea soltanto con un gancio sui capelli dell’artista\,
  poche sono le performer che utilizzano quest’arte circense.\n\nTerza os
 pite\, una vera Regina del burlesque mondiale\, che non spoileriamo perch
 é sarà una grande sorpresa ed un regalo inestimabile per pubblico ed app
 assionati: un mix esotico\, una classe innata\, tanto glamour ed allure. U
 no spettacolo per gli occhi che non dimenticherete facilmente!\n\nTocco fi
 nale le splendide coreografie delle Good Girls che\, per l’occasione int
 erpreteranno le coreografie più iconiche\, spaziando dal classico al cont
 emporaneo\, che ha reso celebre la Golden Age\, con chilometri di piume\, 
 una pioggia di cristalli Swarovski e sorrisi smaglianti per regalarvi una 
 serata unica.\n\nSO CRAZY SHOW – versione XXL\n\n28 marzo 2023 dalle ore
  21.30\n\nJerò Restaurant\, Via Torrita Tiberina 22 Roma\n\nPer info e pr
 enotazioni: 0639720966
ATTACH;FMTTYPE=image/jpeg:https://lazioeventi.com/wp-content/uploads/2023/
 03/Hollys-Good.jpg
CATEGORIES:Musica, Spettacoli e Danza nel Lazio
LOCATION:Roma\, Via Leopardi\, Roma\, Roma\, Lazio\, Italia
GEO:41.8942;12.5017
X-APPLE-STRUCTURED-LOCATION;VALUE=URI;X-ADDRESS=Via Leopardi\, Roma\, Roma\
 , Lazio\, Italia;X-APPLE-RADIUS=100;X-TITLE=Roma:geo:41.8942,12.5017
END:VEVENT
BEGIN:VTIMEZONE
TZID:Europe/Rome
X-LIC-LOCATION:Europe/Rome
BEGIN:DAYLIGHT
DTSTART:20230326T030000
TZOFFSETFROM:+0100
TZOFFSETTO:+0200
TZNAME:CEST
END:DAYLIGHT
END:VTIMEZONE
END:VCALENDAR