BEGIN:VCALENDAR
VERSION:2.0
PRODID:-//wp-events-plugin.com//7.2.3.1//EN
TZID:Europe/Rome
X-WR-TIMEZONE:Europe/Rome
BEGIN:VEVENT
UID:34247@lazioeventi.com
DTSTART;TZID=Europe/Rome:20230228T211500
DTEND;TZID=Europe/Rome:20230228T230000
DTSTAMP:20230224T083716Z
URL:https://lazioeventi.com/eventi/so-crazy-show
SUMMARY:So Crazy Show - Roma - 28 Febbraio 23 21:15
DESCRIPTION:Torna sul  palco del Jerò Restaurant di Roma il prossimo mart
 edì 28 febbraio\, il “So Crazy Show”  della showgirl e producer Holl
 y’s Good\, appuntamento ormai consolidato del blasonato locale capitolin
 o\, stavolta in una versione ancora più innovativa.\n\nPer questa nuova s
 erata\, come ci ha ormai abituato la biondissima performer\, reduce da una
  tournée in Slovenia\, non solo Goodgirls\, il suo strepitoso corpo di ba
 llo\,  ma anche due guest star d’eccezione: la performer Manuela Scavaz
 za\, e la voce inconfondibile di Valentina Naselli direttamente da Vlad\, 
 Dracula il Musical.\n\nManuela Scavazza\, direttamente da Milano\, ha al s
 uo attivo un background di ginnastica artistica\, volteggio\, ed una forma
 zione accademica di arti aree e teatro contemporaneo. Partita dalla pole d
 ance si è specializzata nell’acrobatica aerea in particolare al cerchio
 \, studiando contemporaneamente anche l’utilizzo del fuoco e la pirotecn
 ica per arricchire i suoi show\, una bellezza che infiamma sotto tutti i p
 unti di vista.\n\nCi ammalierà con numeri mozzafiato che hanno come chiav
 i fondamentali la femminilità\, l’eleganza e la seduzione.\n\nValentina
  Naselli si esibirà con un repertorio che spazia dalla musica italiana a 
 quella internazionale per mostrarci tutte le sue innate doti canore\, defi
 nita la voce più sexy di Roma\, e non solo\,  per la sua prorompente bel
 lezza.\n\nUno show nello show\, come solo il “So Crazy Show” sa essere
 \, con numeri tutti al femminile e sempre diversi ed originali\, che metto
 no in evidenza la grande professionalità e versatilità di tutte le perfo
 rmer sul palco e l’innata bravura della sua show producer\, e coreografa
 . Holly’s Good è instancabilmente sempre alla ricerca di nuove artiste\
 , da amalgamare e inserire nei suoi format sempre diversi\,  rendendo sem
 pre più accattivanti gli spettacoli che registrano sempre il sold-out ed 
 il consenso del pubblico\n\nHolly’s Good\, le Goodgirls\, Manuela Scavaz
 za e Valentina Naselli vi aspettano per un dinner show che è il fiore all
 ’occhiello del JERO’ a Ponte Milvio che è ormai una tappa fissa e con
 solidata nel panorama dei live show della Capitale\, dove il “So Crazy S
 how” è il main event per antonomasia.\n\nUn So Crazy Show in formato XL
  assolutamente da non perdere!\n\nSo Crazy Show\n\nMartedì 28 febbraio da
 lle 21.30\n\nJerò Via Torrita Tiberina 22 per info e prenotazioni 06-3972
 0966\n\n&nbsp\;
ATTACH;FMTTYPE=image/jpeg:https://lazioeventi.com/wp-content/uploads/2023/
 02/so-crazy-show-2.jpg
CATEGORIES:Musica, Spettacoli e Danza nel Lazio
LOCATION:Roma\, Via Leopardi\, Roma\, Roma\, Lazio\, Italia
GEO:41.8942;12.5017
X-APPLE-STRUCTURED-LOCATION;VALUE=URI;X-ADDRESS=Via Leopardi\, Roma\, Roma\
 , Lazio\, Italia;X-APPLE-RADIUS=100;X-TITLE=Roma:geo:41.8942,12.5017
END:VEVENT
BEGIN:VTIMEZONE
TZID:Europe/Rome
X-LIC-LOCATION:Europe/Rome
BEGIN:STANDARD
DTSTART:20221030T020000
TZOFFSETFROM:+0200
TZOFFSETTO:+0100
TZNAME:CET
END:STANDARD
END:VTIMEZONE
END:VCALENDAR