BEGIN:VCALENDAR
VERSION:2.0
PRODID:-//wp-events-plugin.com//7.2.3.1//EN
TZID:Europe/Rome
X-WR-TIMEZONE:Europe/Rome
BEGIN:VEVENT
UID:40774@lazioeventi.com
DTSTART;TZID=Europe/Rome:20250406T080000
DTEND;TZID=Europe/Rome:20250406T160000
DTSTAMP:20250217T215731Z
URL:https://lazioeventi.com/eventi/soffitta-in-piazza-24
SUMMARY:Soffitta in piazza - Palombara Sabina - 6 Aprile 25 08:00
DESCRIPTION:Palombara Sabina \, Domenica 6 Aprile (dalle 8 alle 16) presso 
 l’area mercato (P. Le Giovanni Paolo II) per chi usa il navigatore mette
 re viale Tivoli\, c’è il mercatino “Soffitta in piazza”.\nEvento or
 ganizzato da disoccupati\, precari del lavoro\, pensionati a basso reddito
  e privati cittadini che vogliono reagire con dignità (al momento della c
 risi attuale) privandosi di oggetti\, vestiti ecc. che non si usano più p
 artecipando in questo simpatico contesto sociale.\nManifestazione patrocin
 ata dalla Regione Lazio e dal Comune di Palombara Sabina. Adeguata alle no
 rmative di sicurezza per gli eventi pubblici.\nAmpio parcheggio\, w. c. Ig
 ienizzati con personale sul posto\, punto ristoro con porchetta e parco gi
 ochi.\nInfo per espositori 339-7116594 – prenotazioni tramite SMS o What
 sApp al numero 349-0529976.\nIn caso di condizioni meteo avverse\, l’eve
 nto può essere annullato.
ATTACH;FMTTYPE=image/jpeg:https://lazioeventi.com/wp-content/uploads/2025/
 02/05-cartellone-6-APRILE-Copia.jpg
CATEGORIES:Fiere e Mercatini nel Lazio
LOCATION:Palombara Sabina\, Comune\, Palombara Sabina\, Roma\, Lazio\, Ital
 ia
GEO:42.0665;12.7649
X-APPLE-STRUCTURED-LOCATION;VALUE=URI;X-ADDRESS=Comune\, Palombara Sabina\,
  Roma\, Lazio\, Italia;X-APPLE-RADIUS=100;X-TITLE=Palombara Sabina:geo:42.
 0665,12.7649
END:VEVENT
BEGIN:VTIMEZONE
TZID:Europe/Rome
X-LIC-LOCATION:Europe/Rome
BEGIN:DAYLIGHT
DTSTART:20250330T030000
TZOFFSETFROM:+0100
TZOFFSETTO:+0200
TZNAME:CEST
END:DAYLIGHT
END:VTIMEZONE
END:VCALENDAR